BEGIN:VCALENDAR
VERSION:2.0
PRODID:-//Histemé - Histoire Territoires Mémoires - ECPv6.15.18//NONSGML v1.0//EN
CALSCALE:GREGORIAN
METHOD:PUBLISH
X-ORIGINAL-URL:https://histeme.unicaen.fr
X-WR-CALDESC:Évènements pour Histemé - Histoire Territoires Mémoires
REFRESH-INTERVAL;VALUE=DURATION:PT1H
X-Robots-Tag:noindex
X-PUBLISHED-TTL:PT1H
BEGIN:VTIMEZONE
TZID:Europe/Paris
BEGIN:DAYLIGHT
TZOFFSETFROM:+0100
TZOFFSETTO:+0200
TZNAME:CEST
DTSTART:20210328T010000
END:DAYLIGHT
BEGIN:STANDARD
TZOFFSETFROM:+0200
TZOFFSETTO:+0100
TZNAME:CET
DTSTART:20211031T010000
END:STANDARD
BEGIN:DAYLIGHT
TZOFFSETFROM:+0100
TZOFFSETTO:+0200
TZNAME:CEST
DTSTART:20220327T010000
END:DAYLIGHT
BEGIN:STANDARD
TZOFFSETFROM:+0200
TZOFFSETTO:+0100
TZNAME:CET
DTSTART:20221030T010000
END:STANDARD
BEGIN:DAYLIGHT
TZOFFSETFROM:+0100
TZOFFSETTO:+0200
TZNAME:CEST
DTSTART:20230326T010000
END:DAYLIGHT
BEGIN:STANDARD
TZOFFSETFROM:+0200
TZOFFSETTO:+0100
TZNAME:CET
DTSTART:20231029T010000
END:STANDARD
END:VTIMEZONE
BEGIN:VEVENT
DTSTART;TZID=Europe/Paris:20220308T090000
DTEND;TZID=Europe/Paris:20220309T150000
DTSTAMP:20260423T073950
CREATED:20220307T080711Z
LAST-MODIFIED:20220307T083415Z
UID:4091-1646730000-1646838000@histeme.unicaen.fr
SUMMARY:Colloque « Violences en contexte guerrier »
DESCRIPTION:Le projet Paraben\, par sa contribution à une anthropologie des massacres et des violences de masse\, a pour but d’interroger l’intemporalité des violences extrêmes dans la guerre et le rapport des sociétés à ce type de violence\, pour offrir une réflexion collective inédite en France sur la per­ti­­nence ou non d’en référer au génocide dans l’étude des expériences grecques et romaines. Il s’a­git d’inviter à replacer l’étude sur le temps long\, dans une approche comparée et pluri­disci­pli­naire\, en vue d’une compréhension globale du phénomène. \nÀ noter\, le 9 mars de 14h15 à 15h (Mémorial de Caen)\, : « Les anciens ont-ils commis des génocides ? Réflexion sur la guerre d’extermination dans les sociétés Gréco-Romaines » par Nathalie Barrandon (Université de Reims-Champagne Ardenne – Cehic). \nLieux : Salle du Belvédère (MRSH\, Caen\, campus 1) et Mémorial de Caen \nProgramme du colloque “Violences en contaxte guerrier”Télécharger
URL:https://histeme.unicaen.fr/evenement/colloque-violences-en-contexte-guerrier/
CATEGORIES:Congrès - Colloque
ATTACH;FMTTYPE=image/jpeg:https://histeme.unicaen.fr/wp-content/uploads/sites/15/2022/03/colloque-violences.jpg
END:VEVENT
END:VCALENDAR