BEGIN:VCALENDAR
VERSION:2.0
PRODID:-//Histemé - Histoire Territoires Mémoires - ECPv6.15.18//NONSGML v1.0//EN
CALSCALE:GREGORIAN
METHOD:PUBLISH
X-WR-CALNAME:Histemé - Histoire Territoires Mémoires
X-ORIGINAL-URL:https://histeme.unicaen.fr
X-WR-CALDESC:Évènements pour Histemé - Histoire Territoires Mémoires
REFRESH-INTERVAL;VALUE=DURATION:PT1H
X-Robots-Tag:noindex
X-PUBLISHED-TTL:PT1H
BEGIN:VTIMEZONE
TZID:Europe/Paris
BEGIN:DAYLIGHT
TZOFFSETFROM:+0100
TZOFFSETTO:+0200
TZNAME:CEST
DTSTART:20210328T010000
END:DAYLIGHT
BEGIN:STANDARD
TZOFFSETFROM:+0200
TZOFFSETTO:+0100
TZNAME:CET
DTSTART:20211031T010000
END:STANDARD
BEGIN:DAYLIGHT
TZOFFSETFROM:+0100
TZOFFSETTO:+0200
TZNAME:CEST
DTSTART:20220327T010000
END:DAYLIGHT
BEGIN:STANDARD
TZOFFSETFROM:+0200
TZOFFSETTO:+0100
TZNAME:CET
DTSTART:20221030T010000
END:STANDARD
BEGIN:DAYLIGHT
TZOFFSETFROM:+0100
TZOFFSETTO:+0200
TZNAME:CEST
DTSTART:20230326T010000
END:DAYLIGHT
BEGIN:STANDARD
TZOFFSETFROM:+0200
TZOFFSETTO:+0100
TZNAME:CET
DTSTART:20231029T010000
END:STANDARD
END:VTIMEZONE
BEGIN:VEVENT
DTSTART;TZID=Europe/Paris:20221021T150000
DTEND;TZID=Europe/Paris:20221021T170000
DTSTAMP:20260419T193205
CREATED:20220913T022212Z
LAST-MODIFIED:20220913T022303Z
UID:4904-1666364400-1666371600@histeme.unicaen.fr
SUMMARY:Séminaire Le Temps de l’Empire ibérique (XVe - XVIIIe siècles)
DESCRIPTION:La fabrique de l’Empire : Conserver et restaurer la concorde \n(il est possible de les suivre en ligne ; pour cela\, contacter alexandra.merle@unicaen.fr) \nLa participation est obligatoire pour tous les étudiants inscrits dans ce séminaire :M.1HRP4F\, M.1HRP9F\, M2HRP2F\, M.2HRP5F \nResponsables : Valeria Allaire\, Loann Berens\, Ariane Boltanski\, Marie-Lucie Copete\, Juan Carlos D’Amico\, Manuela Águeda García Garrido\, Alexandra Merle\, Alejandra Testino-Zafiropoulos \nSoutenu par ERLIS (EA 4254) et par HISTEMÉ (EA 7455) avec l’appui de la MRSH \nSergio Bravo Sánchez (Universidad Complutense de Madrid)\, La concorde après la faillite : l’impératrice Isabelle de Portugal comme agent dynastique sous le règne de Charles Quin
URL:https://histeme.unicaen.fr/evenement/seminaire-le-temps-de-lempire-iberique-xve-xviiie-siecles-2/
LOCATION:Caen · Campus 1 · Maison de la recherche en sciences humaines (MRSH) · Salle des Thèses\, Campus 1\, Maison de la recherche en sciences humaines (MRSH)\, 1 Esplanade de la Paix\, Caen\, 14000\, France
CATEGORIES:Séminaire
END:VEVENT
END:VCALENDAR