BEGIN:VCALENDAR
VERSION:2.0
PRODID:-//Histemé - Histoire Territoires Mémoires - ECPv6.15.18//NONSGML v1.0//EN
CALSCALE:GREGORIAN
METHOD:PUBLISH
X-ORIGINAL-URL:https://histeme.unicaen.fr
X-WR-CALDESC:Évènements pour Histemé - Histoire Territoires Mémoires
REFRESH-INTERVAL;VALUE=DURATION:PT1H
X-Robots-Tag:noindex
X-PUBLISHED-TTL:PT1H
BEGIN:VTIMEZONE
TZID:Europe/Paris
BEGIN:DAYLIGHT
TZOFFSETFROM:+0100
TZOFFSETTO:+0200
TZNAME:CEST
DTSTART:20210328T010000
END:DAYLIGHT
BEGIN:STANDARD
TZOFFSETFROM:+0200
TZOFFSETTO:+0100
TZNAME:CET
DTSTART:20211031T010000
END:STANDARD
BEGIN:DAYLIGHT
TZOFFSETFROM:+0100
TZOFFSETTO:+0200
TZNAME:CEST
DTSTART:20220327T010000
END:DAYLIGHT
BEGIN:STANDARD
TZOFFSETFROM:+0200
TZOFFSETTO:+0100
TZNAME:CET
DTSTART:20221030T010000
END:STANDARD
BEGIN:DAYLIGHT
TZOFFSETFROM:+0100
TZOFFSETTO:+0200
TZNAME:CEST
DTSTART:20230326T010000
END:DAYLIGHT
BEGIN:STANDARD
TZOFFSETFROM:+0200
TZOFFSETTO:+0100
TZNAME:CET
DTSTART:20231029T010000
END:STANDARD
END:VTIMEZONE
BEGIN:VEVENT
DTSTART;TZID=Europe/Paris:20221116T110000
DTEND;TZID=Europe/Paris:20221118T180000
DTSTAMP:20260421T214217
CREATED:20221003T140437Z
LAST-MODIFIED:20221003T140447Z
UID:4985-1668596400-1668794400@histeme.unicaen.fr
SUMMARY:Colloque international "Redécouvrir Françoise d'Eaubonne"
DESCRIPTION:Autrice\, théoricienne et activiste\, Françoise d’Eaubonne (1920-2005) a publié plus d’une centaine de livres (poèmes\, romans\, science-fiction\, essais\, biographies…) dans près de quarante maisons d’édition différentes entre 1942 et 2003. Militante féministe\, elle cofonde le Mouvement de libération des femmes (MLF) et du front homosexuel d’action révolutionnaire (FHAR) et pose les jalons de l’écoféminisme en France dans les années 1970. \nCe colloque vise à redécouvrir cette figure incontournable de la scène intellectuelle française de la seconde moitié du XXe siècle\, dont le fonds d’archives se trouve à l’Imec et reste en grande partie à découvrir. \nPour s’inscrire (entrée gratuite sur réservation\, dans la limite des places disponibles) : colloque.francoisedeaubonne@gmail.com \nPour consulter le programme: \nColloque-FDE_Programme_LIVRET
URL:https://histeme.unicaen.fr/evenement/colloque-international-redecouvrir-francoise-deaubonne/
LOCATION:Saint-Germain-la-Blanche-Herbe · IMEC et Caen · Campus 1 · Maison de la recherche en sciences humaines (MRSH)\, France
CATEGORIES:Congrès - Colloque
END:VEVENT
BEGIN:VEVENT
DTSTART;TZID=Europe/Paris:20221118T140000
DTEND;TZID=Europe/Paris:20221118T180000
DTSTAMP:20260421T214217
CREATED:20220908T203358Z
LAST-MODIFIED:20220908T204055Z
UID:4879-1668780000-1668794400@histeme.unicaen.fr
SUMMARY:Séminaire histoire antique
DESCRIPTION:Pouvoir et religion dans les mondes grec et romain :\n \nKarin Mackowiak (MCF HDR Université Franche-Comté) : informations sur la communication à venir. \nCaroline Blonce (MCF Caen) : « Réception et diffusion du culte impérial en Afrique sous les Julio-Claudiens » \nInformation sur le lieu à venir.
URL:https://histeme.unicaen.fr/evenement/seminaire-histoire-antique-2/
CATEGORIES:Séminaire
END:VEVENT
BEGIN:VEVENT
DTSTART;TZID=Europe/Paris:20221118T150000
DTEND;TZID=Europe/Paris:20221118T170000
DTSTAMP:20260421T214217
CREATED:20220913T022704Z
LAST-MODIFIED:20220913T022704Z
UID:4907-1668783600-1668790800@histeme.unicaen.fr
SUMMARY:Séminaire Le Temps de l’Empire ibérique (XVe - XVIIIe siècles)
DESCRIPTION:La fabrique de l’Empire : Conserver et restaurer la concorde  \n(il est possible de les suivre en ligne ; pour cela\, contacter alexandra.merle@unicaen.fr) \nLa participation est obligatoire pour tous les étudiants inscrits dans ce séminaire :M.1HRP4F\, M.1HRP9F\, M2HRP2F\, M.2HRP5F \nResponsables : Valeria Allaire\, Loann Berens\, Ariane Boltanski\, Marie-Lucie Copete\, Juan Carlos D’Amico\, Manuela Águeda García Garrido\, Alexandra Merle\, Alejandra Testino-ZafiropoulosSoutenu par ERLIS (EA 4254) et par HISTEMÉ (EA 7455) avec l’appui de la MRSH \nElfie Guyau (Université Paris-Nanterre)\, Revendiquer son christianisme : noblesse indigène et négociation de l’ordre colonial dans les Andes\, XVIe-XVIIIe siècles
URL:https://histeme.unicaen.fr/evenement/seminaire-le-temps-de-lempire-iberique-xve-xviiie-siecles-3/
LOCATION:Caen · Campus 1 · Maison des langues et de l’international (MLI) · Salle Li-160\, Carré international - Maison des langues et de l'international\, Caen\, 14000\, France
CATEGORIES:Séminaire
END:VEVENT
END:VCALENDAR