BEGIN:VCALENDAR
VERSION:2.0
PRODID:-//Histemé - Histoire Territoires Mémoires - ECPv6.15.18//NONSGML v1.0//EN
CALSCALE:GREGORIAN
METHOD:PUBLISH
X-ORIGINAL-URL:https://histeme.unicaen.fr
X-WR-CALDESC:Évènements pour Histemé - Histoire Territoires Mémoires
REFRESH-INTERVAL;VALUE=DURATION:PT1H
X-Robots-Tag:noindex
X-PUBLISHED-TTL:PT1H
BEGIN:VTIMEZONE
TZID:Europe/Paris
BEGIN:DAYLIGHT
TZOFFSETFROM:+0100
TZOFFSETTO:+0200
TZNAME:CEST
DTSTART:20220327T010000
END:DAYLIGHT
BEGIN:STANDARD
TZOFFSETFROM:+0200
TZOFFSETTO:+0100
TZNAME:CET
DTSTART:20221030T010000
END:STANDARD
BEGIN:DAYLIGHT
TZOFFSETFROM:+0100
TZOFFSETTO:+0200
TZNAME:CEST
DTSTART:20230326T010000
END:DAYLIGHT
BEGIN:STANDARD
TZOFFSETFROM:+0200
TZOFFSETTO:+0100
TZNAME:CET
DTSTART:20231029T010000
END:STANDARD
BEGIN:DAYLIGHT
TZOFFSETFROM:+0100
TZOFFSETTO:+0200
TZNAME:CEST
DTSTART:20240331T010000
END:DAYLIGHT
BEGIN:STANDARD
TZOFFSETFROM:+0200
TZOFFSETTO:+0100
TZNAME:CET
DTSTART:20241027T010000
END:STANDARD
END:VTIMEZONE
BEGIN:VEVENT
DTSTART;TZID=Europe/Paris:20230323T093000
DTEND;TZID=Europe/Paris:20230323T170000
DTSTAMP:20260425T201559
CREATED:20220907T140314Z
LAST-MODIFIED:20220907T140314Z
UID:4836-1679563800-1679590800@histeme.unicaen.fr
SUMMARY:Séminaire Penser le maritime
DESCRIPTION:Master Histoire : sources\, sociétés et cultures de l’antiquité à nos jours \nJournée : Mers et migrations (II) \nLieu : Université du Havre \nHoraires : 9h30-12h30 – 14h00-17h00 \nProgramme: \nSéance animée et modéré par Eric Saunier et Thomas Vaisset \nLuc Chantre\, « Le “navire à pèlerins”\, un objet d’histoire globale » \nEric Roulet\, « Les politiques migratoires des monarchies catholiques (XVIe-XVIIe s.) » \nStéphanie Soubrier\, « Quand l’empire prend le large : travailler et voyager comme boy à bord des paquebots des compagnies maritimes françaises (années 1850-années 1950) » \nDominique Guillemin\, « Porter assistance aux réfugiés en mer. L’exemple de la Marine nationale et des boat people\, 1982-1988 » \nTable-ronde en présence d’un représentant du Secrétariat général à la mer
URL:https://histeme.unicaen.fr/evenement/seminaire-penser-le-maritime-4/
LOCATION:Le Havre · Université Le Havre Normandie\, Université Le Havre Normandie\, 25 Rue Philippe Lebon\, Le Havre\, 76600\, France
CATEGORIES:Séminaire
END:VEVENT
END:VCALENDAR