BEGIN:VCALENDAR
VERSION:2.0
PRODID:-//Histemé - Histoire Territoires Mémoires - ECPv6.15.18//NONSGML v1.0//EN
CALSCALE:GREGORIAN
METHOD:PUBLISH
X-WR-CALNAME:Histemé - Histoire Territoires Mémoires
X-ORIGINAL-URL:https://histeme.unicaen.fr
X-WR-CALDESC:Évènements pour Histemé - Histoire Territoires Mémoires
REFRESH-INTERVAL;VALUE=DURATION:PT1H
X-Robots-Tag:noindex
X-PUBLISHED-TTL:PT1H
BEGIN:VTIMEZONE
TZID:Europe/Paris
BEGIN:DAYLIGHT
TZOFFSETFROM:+0100
TZOFFSETTO:+0200
TZNAME:CEST
DTSTART:20220327T010000
END:DAYLIGHT
BEGIN:STANDARD
TZOFFSETFROM:+0200
TZOFFSETTO:+0100
TZNAME:CET
DTSTART:20221030T010000
END:STANDARD
BEGIN:DAYLIGHT
TZOFFSETFROM:+0100
TZOFFSETTO:+0200
TZNAME:CEST
DTSTART:20230326T010000
END:DAYLIGHT
BEGIN:STANDARD
TZOFFSETFROM:+0200
TZOFFSETTO:+0100
TZNAME:CET
DTSTART:20231029T010000
END:STANDARD
BEGIN:DAYLIGHT
TZOFFSETFROM:+0100
TZOFFSETTO:+0200
TZNAME:CEST
DTSTART:20240331T010000
END:DAYLIGHT
BEGIN:STANDARD
TZOFFSETFROM:+0200
TZOFFSETTO:+0100
TZNAME:CET
DTSTART:20241027T010000
END:STANDARD
END:VTIMEZONE
BEGIN:VEVENT
DTSTART;TZID=Europe/Paris:20231214T100000
DTEND;TZID=Europe/Paris:20231214T130000
DTSTAMP:20260424T081209
CREATED:20230920T082715Z
LAST-MODIFIED:20250217T144904Z
UID:48083-1702548000-1702558800@histeme.unicaen.fr
SUMMARY:Séminaire Penser le maritime
DESCRIPTION:Archéologie sous-marineCÉCILE SAUVAGE (conservatrice du patrimoine\, responsable littoraux Normandie\, Hauts de France et Saint-Pierre-et-Miquelon\, DRASSM) : « Archéologie des conflits : l’apport des dernières recherches sous-marines menées par le Drassm en Manche et mer du Nord ».MARINE JAOUEN (technicienne de recherche\, DRASSM\, doctorante) : « Le grand cabotage en Méditerranée\, XVIe-XVIIIe siècle : témoignages archéologiques ». \n\n\n\nCoordination : Carole Christen\, Jérôme Jambu\, Thomas Vaisset (Umr Idées) ; Éric Saunier (HisTeMé) \n\n\n\nPlus d’informations
URL:https://histeme.unicaen.fr/evenement/seminaire-penser-le-maritime-8/
LOCATION:Le Havre · Université Le Havre Normandie · PRSH · Salle Madeleine de Scudéry\, Pôle de Recherche en Sciences Humaines\, Faculté des Affaires Internationales\, 25 Rue Philippe Lebon\, Le Havre\, 76600\, France
END:VEVENT
END:VCALENDAR