BEGIN:VCALENDAR
VERSION:2.0
PRODID:-//Histemé - Histoire Territoires Mémoires - ECPv6.15.18//NONSGML v1.0//EN
CALSCALE:GREGORIAN
METHOD:PUBLISH
X-WR-CALNAME:Histemé - Histoire Territoires Mémoires
X-ORIGINAL-URL:https://histeme.unicaen.fr
X-WR-CALDESC:Évènements pour Histemé - Histoire Territoires Mémoires
REFRESH-INTERVAL;VALUE=DURATION:PT1H
X-Robots-Tag:noindex
X-PUBLISHED-TTL:PT1H
BEGIN:VTIMEZONE
TZID:Europe/Paris
BEGIN:DAYLIGHT
TZOFFSETFROM:+0100
TZOFFSETTO:+0200
TZNAME:CEST
DTSTART:20230326T010000
END:DAYLIGHT
BEGIN:STANDARD
TZOFFSETFROM:+0200
TZOFFSETTO:+0100
TZNAME:CET
DTSTART:20231029T010000
END:STANDARD
BEGIN:DAYLIGHT
TZOFFSETFROM:+0100
TZOFFSETTO:+0200
TZNAME:CEST
DTSTART:20240331T010000
END:DAYLIGHT
BEGIN:STANDARD
TZOFFSETFROM:+0200
TZOFFSETTO:+0100
TZNAME:CET
DTSTART:20241027T010000
END:STANDARD
BEGIN:DAYLIGHT
TZOFFSETFROM:+0100
TZOFFSETTO:+0200
TZNAME:CEST
DTSTART:20250330T010000
END:DAYLIGHT
BEGIN:STANDARD
TZOFFSETFROM:+0200
TZOFFSETTO:+0100
TZNAME:CET
DTSTART:20251026T010000
END:STANDARD
END:VTIMEZONE
BEGIN:VEVENT
DTSTART;TZID=Europe/Paris:20240925T000000
DTEND;TZID=Europe/Paris:20240927T235959
DTSTAMP:20260423T144311
CREATED:20240920T081154Z
LAST-MODIFIED:20240920T084511Z
UID:48598-1727222400-1727481599@histeme.unicaen.fr
SUMMARY:Les ruines de guerre européennes et leurs usages (XXe-XXIe)
DESCRIPTION:Aujourd’hui\, le spectacle terrible des destructions de l’Ukraine réveille\, dans toute l’Europe\, le souvenir des paysages de guerre des conflits antérieurs des guerres napoléoniennes à la guerre de l’ex-Yougoslavie\, etc.  \n\n\n\nLa Normandie fut l’une de ces régions particulièrement dévastées par la guerre – Caen\, Falaise\, Saint-Lô « capitale des ruines » en 1945\, mais où le souvenir du Débarquement a masqué celui des destructions alliées\, soulignant par la même que le rapport aux ruines est variable et historiquement construit.  \n\n\n\nLe colloque\, qui clôt une ANR sur le thème des Ruines de guerre\, se propose d’explorer le rapport que les sociétés d’après-guerre entretiennent avec les vestiges du conflit et les marques de la violence guerrière. À travers les usages politiques\, sociaux\, économiques\, culturels mais aussi mémoriels de ces vestiges particuliers\, c’est la relation à un passé traumatique qui est visée. \n\n\n\nProgramme du colloque « Ruines de guerre » ()Télécharger ()\n\n\n\n\n\nLe colloque est retransmis le jeudi 26 et le vendredi 27 sur le compte Facebook de la MRSH de l’université de Caen Normandie. Le live est disponible aux internautes ayant un compte Facebook.
URL:https://histeme.unicaen.fr/evenement/les-ruines-de-guerre-europeennes-et-leurs-usages-xixe-xxe/
LOCATION:Caen · Mémorial de Caen\, Mémorial de Caen\, Esplanade Général Eisenhower\, Caen\, 14000\, France
CATEGORIES:Congrès - Colloque
ATTACH;FMTTYPE=image/png:https://histeme.unicaen.fr/wp-content/uploads/sites/15/2024/09/Colloque-ruines.png
END:VEVENT
BEGIN:VEVENT
DTSTART;TZID=Europe/Paris:20240926T100000
DTEND;TZID=Europe/Paris:20240926T130000
DTSTAMP:20260423T144311
CREATED:20240916T060425Z
LAST-MODIFIED:20250217T142606Z
UID:48539-1727344800-1727355600@histeme.unicaen.fr
SUMMARY:Séminaire "Penser le maritime"
DESCRIPTION:Séance : « Les ports de l’Atlantique et les colonies«  \n\n\n\n« Une approche régionale de la traite négrière : le cas du Sud-Ouest aquitain »\, Caroline le Mao (Université de Bordeaux\, CEMMC) \n\n\n\n« Les Nantais face au “raz-de-marée” caféier à Saint-Domingue. Réflexions sur l’investissement foncier dans les colonies françaises à la fin du XVIIIe siècle »\, Bernard Michon (Nantes université\, CRHIA) \n\n\n\nPlus d’informations
URL:https://histeme.unicaen.fr/evenement/seminaire-penser-le-maritime-13/
LOCATION:Le Havre · Université Le Havre Normandie\, Université Le Havre Normandie\, 25 Rue Philippe Lebon\, Le Havre\, 76600\, France
CATEGORIES:Séminaire
END:VEVENT
END:VCALENDAR