BEGIN:VCALENDAR
VERSION:2.0
PRODID:-//Histemé - Histoire Territoires Mémoires - ECPv6.15.18//NONSGML v1.0//EN
CALSCALE:GREGORIAN
METHOD:PUBLISH
X-WR-CALNAME:Histemé - Histoire Territoires Mémoires
X-ORIGINAL-URL:https://histeme.unicaen.fr
X-WR-CALDESC:Évènements pour Histemé - Histoire Territoires Mémoires
REFRESH-INTERVAL;VALUE=DURATION:PT1H
X-Robots-Tag:noindex
X-PUBLISHED-TTL:PT1H
BEGIN:VTIMEZONE
TZID:Europe/Paris
BEGIN:DAYLIGHT
TZOFFSETFROM:+0100
TZOFFSETTO:+0200
TZNAME:CEST
DTSTART:20230326T010000
END:DAYLIGHT
BEGIN:STANDARD
TZOFFSETFROM:+0200
TZOFFSETTO:+0100
TZNAME:CET
DTSTART:20231029T010000
END:STANDARD
BEGIN:DAYLIGHT
TZOFFSETFROM:+0100
TZOFFSETTO:+0200
TZNAME:CEST
DTSTART:20240331T010000
END:DAYLIGHT
BEGIN:STANDARD
TZOFFSETFROM:+0200
TZOFFSETTO:+0100
TZNAME:CET
DTSTART:20241027T010000
END:STANDARD
BEGIN:DAYLIGHT
TZOFFSETFROM:+0100
TZOFFSETTO:+0200
TZNAME:CEST
DTSTART:20250330T010000
END:DAYLIGHT
BEGIN:STANDARD
TZOFFSETFROM:+0200
TZOFFSETTO:+0100
TZNAME:CET
DTSTART:20251026T010000
END:STANDARD
END:VTIMEZONE
BEGIN:VEVENT
DTSTART;TZID=Europe/Paris:20241119T140000
DTEND;TZID=Europe/Paris:20241119T180000
DTSTAMP:20260424T081132
CREATED:20241106T134941Z
LAST-MODIFIED:20241106T151918Z
UID:48743-1732024800-1732039200@histeme.unicaen.fr
SUMMARY:Soutenance d’HDR de Benoit Marpeau
DESCRIPTION:Invitation de monsieur Benoit MARPEAU: \n\n\n\nJ’ai le plaisir de vous annoncer ma soutenance d’HDR en histoire le mardi 19 novembre à 14 heures dans l’amphithéâtre de la MRSH de l’Université de Caen-Normandie. \n\n\n\nLe mémoire inédit est intitulé : « Inventer et vendre une nouvelle histoire ? Les historiens universitaires français et leurs éditeurs\, des années 1950 aux années 1990 ». \n\n\n\nLe jury est composé de : \n\n\n\n– Pascal ORY\, Professeur émérite d’histoire contemporaine\, Université de Paris-I\, président. \n\n\n\n– Chantal MEYER-PLANTUREUX\, Professeure émérite d’études théâtrales\, Université de Caen Normandie\, garante. \n\n\n\n– Christophe GAUTHIER\, Professeur d’histoire du livre et des médias contemporains\, Ecole Nationale des Chartes. \n\n\n\n– Anthony GLINOER\, Professeur d’histoire de l’édition et de sociologie du littéraire\, Université de Sherbrooke\, rapporteur. \n\n\n\n– Dzovinar KEVONIAN\, Professeure d’histoire contemporaine\, Université de Caen Normandie. \n\n\n\n– Hervé SERRY\, Directeur de recherches au CNRS\, Centre de Recherches Sociologiques et Politiques de Paris\, rapporteur. \n\n\n\n– Anne SIMONIN\, Directrice de recherches au CNRS\, Centre d’études sociologiques et politiques Raymond Aron-EHESS. \n\n\n\n– Patricia SOREL\, Professeure d’histoire contemporaine\, Université de Paris-X\, rapporteure.    \n\n\n\nBenoit Marpeau\, Université de Caen Normandie
URL:https://histeme.unicaen.fr/evenement/soutenance-dhdr-de-benoit-marpeau/
LOCATION:Caen · Campus 1 · Maison de la recherche en sciences humaines (MRSH) · Amphi\, Campus 1\, Maison de la recherche en sciences humaines (MRSH)\, 1 Esplanade de la Paix\, Caen\, 14000\, France
END:VEVENT
END:VCALENDAR