BEGIN:VCALENDAR
VERSION:2.0
PRODID:-//Histemé - Histoire Territoires Mémoires - ECPv6.15.18//NONSGML v1.0//EN
CALSCALE:GREGORIAN
METHOD:PUBLISH
X-WR-CALNAME:Histemé - Histoire Territoires Mémoires
X-ORIGINAL-URL:https://histeme.unicaen.fr
X-WR-CALDESC:Évènements pour Histemé - Histoire Territoires Mémoires
REFRESH-INTERVAL;VALUE=DURATION:PT1H
X-Robots-Tag:noindex
X-PUBLISHED-TTL:PT1H
BEGIN:VTIMEZONE
TZID:Europe/Paris
BEGIN:DAYLIGHT
TZOFFSETFROM:+0100
TZOFFSETTO:+0200
TZNAME:CEST
DTSTART:20230326T010000
END:DAYLIGHT
BEGIN:STANDARD
TZOFFSETFROM:+0200
TZOFFSETTO:+0100
TZNAME:CET
DTSTART:20231029T010000
END:STANDARD
BEGIN:DAYLIGHT
TZOFFSETFROM:+0100
TZOFFSETTO:+0200
TZNAME:CEST
DTSTART:20240331T010000
END:DAYLIGHT
BEGIN:STANDARD
TZOFFSETFROM:+0200
TZOFFSETTO:+0100
TZNAME:CET
DTSTART:20241027T010000
END:STANDARD
BEGIN:DAYLIGHT
TZOFFSETFROM:+0100
TZOFFSETTO:+0200
TZNAME:CEST
DTSTART:20250330T010000
END:DAYLIGHT
BEGIN:STANDARD
TZOFFSETFROM:+0200
TZOFFSETTO:+0100
TZNAME:CET
DTSTART:20251026T010000
END:STANDARD
END:VTIMEZONE
BEGIN:VEVENT
DTSTART;TZID=Europe/Paris:20241212T100000
DTEND;TZID=Europe/Paris:20241212T130000
DTSTAMP:20260424T081208
CREATED:20240916T063158Z
LAST-MODIFIED:20250217T142606Z
UID:48546-1733997600-1734008400@histeme.unicaen.fr
SUMMARY:Séminaire "Penser le maritime"
DESCRIPTION:Séance « Mers et Révolution française » \n« La République vue de la mer : direction politique et stratégie navale française pendant la Révolution »\, Olivier Aranda (université de Bretagne occidentale\, CRBC) \n« “Recherche des causes de la rareté et de la cherté des subsistances\, et des moyens d’y remédier” : les pouvoirs publics face à la crise des subsistances à Brest en l’an II »\, Karine Audran (université de Bretagne-Sud\, TEMOS) \nUniversité du Havre \nPlus d’informations
URL:https://histeme.unicaen.fr/evenement/seminaire-penser-le-maritime-16/
LOCATION:Le Havre · Université Le Havre Normandie · PRSH · Salle Madeleine de Scudéry\, Pôle de Recherche en Sciences Humaines\, Faculté des Affaires Internationales\, 25 Rue Philippe Lebon\, Le Havre\, 76600\, France
CATEGORIES:Séminaire
END:VEVENT
END:VCALENDAR