BEGIN:VCALENDAR
VERSION:2.0
PRODID:-//Histemé - Histoire Territoires Mémoires - ECPv6.15.18//NONSGML v1.0//EN
CALSCALE:GREGORIAN
METHOD:PUBLISH
X-ORIGINAL-URL:https://histeme.unicaen.fr
X-WR-CALDESC:Évènements pour Histemé - Histoire Territoires Mémoires
REFRESH-INTERVAL;VALUE=DURATION:PT1H
X-Robots-Tag:noindex
X-PUBLISHED-TTL:PT1H
BEGIN:VTIMEZONE
TZID:Europe/Paris
BEGIN:DAYLIGHT
TZOFFSETFROM:+0100
TZOFFSETTO:+0200
TZNAME:CEST
DTSTART:20240331T010000
END:DAYLIGHT
BEGIN:STANDARD
TZOFFSETFROM:+0200
TZOFFSETTO:+0100
TZNAME:CET
DTSTART:20241027T010000
END:STANDARD
BEGIN:DAYLIGHT
TZOFFSETFROM:+0100
TZOFFSETTO:+0200
TZNAME:CEST
DTSTART:20250330T010000
END:DAYLIGHT
BEGIN:STANDARD
TZOFFSETFROM:+0200
TZOFFSETTO:+0100
TZNAME:CET
DTSTART:20251026T010000
END:STANDARD
BEGIN:DAYLIGHT
TZOFFSETFROM:+0100
TZOFFSETTO:+0200
TZNAME:CEST
DTSTART:20260329T010000
END:DAYLIGHT
BEGIN:STANDARD
TZOFFSETFROM:+0200
TZOFFSETTO:+0100
TZNAME:CET
DTSTART:20261025T010000
END:STANDARD
END:VTIMEZONE
BEGIN:VEVENT
DTSTART;TZID=Europe/Paris:20250114T100000
DTEND;TZID=Europe/Paris:20250114T180000
DTSTAMP:20260424T093455
CREATED:20240910T101754Z
LAST-MODIFIED:20250217T142515Z
UID:48501-1736848800-1736877600@histeme.unicaen.fr
SUMMARY:Séminaire "Société\, environnement et espaces ruraux"
DESCRIPTION:Atelier jeunes chercheurs 1 : Séances consacrées à l’état d’avancement des travaux des étudiants du Pôle rural. \n\n\n\n10h30 – 12h30 : Présentation-débat des sujets de recherche (M1 et M2 Histoire) \n\n\n\n14h – 16h30. Présentation-débat des sujets de recherche (M1 et M2 Géographie) \n\n\n\n \n\n\n\nSous la direction de Philippe MADELINE\, Anna TRESPEUCH\, JAN SYNOWIECKI\, Elisabeth RIDEL-GRANGER \n\n\n\nPlus d’informations
URL:https://histeme.unicaen.fr/evenement/copie-de-seminaire-du-pole-rural-societe-environnement-et-espaces-ruraux/
LOCATION:Caen · Campus 1 · Maison de la recherche en sciences humaines (MRSH) · Amphi\, Campus 1\, Maison de la recherche en sciences humaines (MRSH)\, 1 Esplanade de la Paix\, Caen\, 14000\, France
CATEGORIES:Séminaire
END:VEVENT
END:VCALENDAR