BEGIN:VCALENDAR
VERSION:2.0
PRODID:-//Histemé - Histoire Territoires Mémoires - ECPv6.15.18//NONSGML v1.0//EN
CALSCALE:GREGORIAN
METHOD:PUBLISH
X-WR-CALNAME:Histemé - Histoire Territoires Mémoires
X-ORIGINAL-URL:https://histeme.unicaen.fr
X-WR-CALDESC:Évènements pour Histemé - Histoire Territoires Mémoires
REFRESH-INTERVAL;VALUE=DURATION:PT1H
X-Robots-Tag:noindex
X-PUBLISHED-TTL:PT1H
BEGIN:VTIMEZONE
TZID:Europe/Paris
BEGIN:DAYLIGHT
TZOFFSETFROM:+0100
TZOFFSETTO:+0200
TZNAME:CEST
DTSTART:20240331T010000
END:DAYLIGHT
BEGIN:STANDARD
TZOFFSETFROM:+0200
TZOFFSETTO:+0100
TZNAME:CET
DTSTART:20241027T010000
END:STANDARD
BEGIN:DAYLIGHT
TZOFFSETFROM:+0100
TZOFFSETTO:+0200
TZNAME:CEST
DTSTART:20250330T010000
END:DAYLIGHT
BEGIN:STANDARD
TZOFFSETFROM:+0200
TZOFFSETTO:+0100
TZNAME:CET
DTSTART:20251026T010000
END:STANDARD
BEGIN:DAYLIGHT
TZOFFSETFROM:+0100
TZOFFSETTO:+0200
TZNAME:CEST
DTSTART:20260329T010000
END:DAYLIGHT
BEGIN:STANDARD
TZOFFSETFROM:+0200
TZOFFSETTO:+0100
TZNAME:CET
DTSTART:20261025T010000
END:STANDARD
END:VTIMEZONE
BEGIN:VEVENT
DTSTART;TZID=Europe/Paris:20250214T140000
DTEND;TZID=Europe/Paris:20250214T180000
DTSTAMP:20260424T081125
CREATED:20240910T082045Z
LAST-MODIFIED:20250127T090003Z
UID:48474-1739541600-1739556000@histeme.unicaen.fr
SUMMARY:Séminaire d'histoire culturelle
DESCRIPTION:Attention! La séance a lieu à l’amphi Rouelle \n\n\n\nSéance sur  » Les représentations visuelles de la modernité\, entre photographie\, peinture et cinéma » \n\n\n\n \n\n\n\nÉléonore Challine (maîtresse de conférences en Histoire de la photographie à l’université Paris 1-Panthéon Sorbonne) : Retrouver l’image de Paris (1850-1910) : quelques pistes pour une exploration des sources visuelles. \n\n\n\nAnne-Sophie Aguilar (maîtresse de conférences en Histoire de l’art contemporain à l’université de Paris-Nanterre) : Peindre la ville moderne : histoire de l’art et histoire des sensibilités (1850-1914). \n\n\n\nSous la direction de Paola Palma \n\n\n\nPlus d’informations
URL:https://histeme.unicaen.fr/evenement/seminaire-dhistoire-culturelle-11/
CATEGORIES:Séminaire
END:VEVENT
BEGIN:VEVENT
DTSTART;TZID=Europe/Paris:20250214T143000
DTEND;TZID=Europe/Paris:20250214T163000
DTSTAMP:20260424T081125
CREATED:20240910T132217Z
LAST-MODIFIED:20240910T132218Z
UID:48533-1739543400-1739550600@histeme.unicaen.fr
SUMMARY:Séminaire « Le Temps de l’Empire ibérique (XVe-XVIIIe siècles) »
DESCRIPTION:Ida Mauro (Universidad de Barcelona) : « Estilos de negociación. Las ciudades italianas de la monarquía española y sus redes en la corte (siglo XVI) » \n\n\n\nHéloïse Hermant (Université Côte d’Azur) : « Conflits et diplomatie infra-étatique : les enjeux des médiations aragonaises à la cour de Madrid sous les Habsbourg » \n\n\n\nPlus d’informations
URL:https://histeme.unicaen.fr/evenement/seminaire-le-temps-de-lempire-iberique-xve-xviiie-siecles-14/
LOCATION:Caen · Campus 1 · Maison de la recherche en sciences humaines (MRSH) · Salle des Actes (SH-027)\, Campus 1\, Maison de la recherche en sciences humaines (MRSH)\, 1 Esplanade de la Paix\, Caen\, 14000\, France
CATEGORIES:Séminaire
END:VEVENT
END:VCALENDAR