BEGIN:VCALENDAR
VERSION:2.0
PRODID:-//Histemé - Histoire Territoires Mémoires - ECPv6.15.18//NONSGML v1.0//EN
CALSCALE:GREGORIAN
METHOD:PUBLISH
X-ORIGINAL-URL:https://histeme.unicaen.fr
X-WR-CALDESC:Évènements pour Histemé - Histoire Territoires Mémoires
REFRESH-INTERVAL;VALUE=DURATION:PT1H
X-Robots-Tag:noindex
X-PUBLISHED-TTL:PT1H
BEGIN:VTIMEZONE
TZID:Europe/Paris
BEGIN:DAYLIGHT
TZOFFSETFROM:+0100
TZOFFSETTO:+0200
TZNAME:CEST
DTSTART:20240331T010000
END:DAYLIGHT
BEGIN:STANDARD
TZOFFSETFROM:+0200
TZOFFSETTO:+0100
TZNAME:CET
DTSTART:20241027T010000
END:STANDARD
BEGIN:DAYLIGHT
TZOFFSETFROM:+0100
TZOFFSETTO:+0200
TZNAME:CEST
DTSTART:20250330T010000
END:DAYLIGHT
BEGIN:STANDARD
TZOFFSETFROM:+0200
TZOFFSETTO:+0100
TZNAME:CET
DTSTART:20251026T010000
END:STANDARD
BEGIN:DAYLIGHT
TZOFFSETFROM:+0100
TZOFFSETTO:+0200
TZNAME:CEST
DTSTART:20260329T010000
END:DAYLIGHT
BEGIN:STANDARD
TZOFFSETFROM:+0200
TZOFFSETTO:+0100
TZNAME:CET
DTSTART:20261025T010000
END:STANDARD
END:VTIMEZONE
BEGIN:VEVENT
DTSTART;TZID=Europe/Paris:20250312T100000
DTEND;TZID=Europe/Paris:20250312T130000
DTSTAMP:20260425T175815
CREATED:20240925T084944Z
LAST-MODIFIED:20250203T112541Z
UID:48652-1741773600-1741784400@histeme.unicaen.fr
SUMMARY:Séminaire "La Fabrique du Politique"
DESCRIPTION:PENSER LE DROIT DE RÉSISTANCE À L’OPPRESSION DANS L’EUROPE MODERNE (XV-XVIIIe SIÈCLES) : \n\n\n\nRémy DUTHILLE (Professeur de Civilisation britannique\, CLIMAS\, Université Michel de Montaigne – Bordeaux) : « Du droit de résistance au devoir de révolution ? Les Britanniques et les révolutions 1688-1848 ». \n\n\n\nFrançois QUASTANA (Professeur d’histoire du droit et des institutions\, Centre d’Histoire Judiciaire\, Aix-Marseille Université) : « Mirabeau et la question du droit de résistance au siècle des Lumières » \n\n\n\nLaura MASON (John Hopkins University – Baltimore) : « L’idée de résistance démocratique chez Babeuf » \n\n\n\nLe séminaire aura lieu dans la salle B1-157c
URL:https://histeme.unicaen.fr/evenement/seminaire-la-fabrique-du-politique-21/
CATEGORIES:Séminaire
END:VEVENT
BEGIN:VEVENT
DTSTART;TZID=Europe/Paris:20250312T140000
DTEND;TZID=Europe/Paris:20250312T170000
DTSTAMP:20260425T175815
CREATED:20240910T074348Z
LAST-MODIFIED:20250305T080750Z
UID:48456-1741788000-1741798800@histeme.unicaen.fr
SUMMARY:Séminaire "Traces de guerre"
DESCRIPTION:Le siège de Leningrad par Sarah Gruska\, EHESS / Sorbonne Université \n\n\n\nSous la direction de Gaël Eismann et François Rouquet \n\n\n\nPlus d’informations
URL:https://histeme.unicaen.fr/evenement/seminaire-traces-de-guerre-14/
LOCATION:Caen · Mémorial de Caen\, Mémorial de Caen\, Esplanade Général Eisenhower\, Caen\, 14000\, France
CATEGORIES:Séminaire
END:VEVENT
END:VCALENDAR