BEGIN:VCALENDAR
VERSION:2.0
PRODID:-//Histemé - Histoire Territoires Mémoires - ECPv6.15.18//NONSGML v1.0//EN
CALSCALE:GREGORIAN
METHOD:PUBLISH
X-ORIGINAL-URL:https://histeme.unicaen.fr
X-WR-CALDESC:Évènements pour Histemé - Histoire Territoires Mémoires
REFRESH-INTERVAL;VALUE=DURATION:PT1H
X-Robots-Tag:noindex
X-PUBLISHED-TTL:PT1H
BEGIN:VTIMEZONE
TZID:Europe/Paris
BEGIN:DAYLIGHT
TZOFFSETFROM:+0100
TZOFFSETTO:+0200
TZNAME:CEST
DTSTART:20240331T010000
END:DAYLIGHT
BEGIN:STANDARD
TZOFFSETFROM:+0200
TZOFFSETTO:+0100
TZNAME:CET
DTSTART:20241027T010000
END:STANDARD
BEGIN:DAYLIGHT
TZOFFSETFROM:+0100
TZOFFSETTO:+0200
TZNAME:CEST
DTSTART:20250330T010000
END:DAYLIGHT
BEGIN:STANDARD
TZOFFSETFROM:+0200
TZOFFSETTO:+0100
TZNAME:CET
DTSTART:20251026T010000
END:STANDARD
BEGIN:DAYLIGHT
TZOFFSETFROM:+0100
TZOFFSETTO:+0200
TZNAME:CEST
DTSTART:20260329T010000
END:DAYLIGHT
BEGIN:STANDARD
TZOFFSETFROM:+0200
TZOFFSETTO:+0100
TZNAME:CET
DTSTART:20261025T010000
END:STANDARD
END:VTIMEZONE
BEGIN:VEVENT
DTSTART;TZID=Europe/Paris:20250602T090000
DTEND;TZID=Europe/Paris:20250602T170000
DTSTAMP:20260422T014336
CREATED:20250411T065257Z
LAST-MODIFIED:20250411T065259Z
UID:49045-1748854800-1748883600@histeme.unicaen.fr
SUMMARY:Journée d'étude "Histoire et environnement en baie du Mont-Saint-Michel"
DESCRIPTION:Cette journée d’étude explore les dynamiques environnementales liées à l’anthropisation du littoral pluriséculaire. Elle nous invite à réfléchir aux activités humaines dans la baie\, de l’élevage ovin à la pêche à pied en passant par la poldérisation\, mais aussi à la mise en tourisme de cet espace naturel et son aménagement urbain\, du Moyen Âge à nos jours. Croisant histoire et sciences de la nature\, elle interroge les mutations de ce territoire\, les enjeux de sa préservation et les conditions d’une écriture de son histoire environnementale. \n\n\n\n\n09h00-09h30 : Anna Trespeuch-Berthelot et Jan Synowiecki (HisTeMé)\, L’approche par le terrain en histoire environnementale\n\n\n\n09h30 -10h00 : Alain-Gilles Chaussat (HisTeMé) : Les enjeux environnementaux et patrimoniaux de la baie du Mont Saint-Michel\n\n\n\n10h-10h30 : Cyrille Billard (archéologue\, CReAAH)\, L’exploitation des environnements littoraux anciens de la baie du Mont-Saint-Michel au travers des sources archéologiques et historiques \n\n\n\n10h30-10h45 : Pause-café\n\n\n\n\n\n10h45-11h15 : Marie Casset (CRAHAM)\, La Poldérisation médiévale dans la baie du Mont Saint-Michel\n\n\n\n11h15-11h45 : Emmanuel Bulot et Lucile Renaud (Gestion des Milieux aquatiques et Prévention des Inondations\, communauté d’agglomération Mont Saint-Michel – Normandie)\, Remontées et salinisation de nappes phréatiques en baie : quels enjeux pour les activités\, les paysages et la biodiversité\n\n\n\n\n\n14h00-16h00 : Découverte du milieu de la baie.\n\n\n\n16h30-17h00 : Conclusions\, perspectives pour une histoire environnementale de la baie du Mont Saint-Michel\, par Jan Synowiecki et Anna Trespeuch-Berthelot.\n\n\n\n\nGratuit｜♿ oui ｜Adulte｜Salle du Gué de l’épine\, Val-Saint-Père \n\n\n\nRéservation obligatoire : delphine.leneveu@unicaen.fr ; patrimoine@msm-normandie.fr \n\n\n\n \n\n\n\n \n\n\n\nSecrets sauvages du patrimoine – Mont-Saint-Michel\, la baie des merveilles \n\n\n\nLundi 2 juin 2025\, 20h30 \n\n\n\nDans le cadre de la journée d’étude « Histoire et environnement en baie du Mont-Saint-Michel »\,nous vous proposons une soirée autour du film « Secrets sauvages du patrimoine – Mont-Saint-Michel\, la baie des merveilles »\, suivi d’un débat. \n\n\n\nÉdifice religieux\, puis bastion de défense et aujourd’hui site UNESCO visité par le monde entier\, le Mont Saint-Michel est un véritable étendard de notre patrimoine. Depuis 1300 ans\, la grande Histoire de ce lieu mythique se mêle à une histoire plus confidentielle\, celle de la faune sauvage de la Baie. Du haut de la Statue de l’Archange aux dunes de sable\, en traversant les immenses prés salés\, la baie du Mont Saint-Michel est un véritable hotspot de biodiversité rythmée par les marées. \n\n\n\n(Film réalisé par Ariane Lamarsaude\, 43 min\, 2022) \n\n\n\nGratuit｜♿ oui｜Adulte｜Théâtre d’Avranches \n\n\n\n \n\n\n\nAffiche JE Mont-Saint-Michel (pdf · 4 Mo)Télécharger (pdf · 4 Mo)
URL:https://histeme.unicaen.fr/evenement/journee-detude-histoire-et-environnement-en-baie-du-mont-saint-michel/
LOCATION:Le Mont-Saint-Michel\, Le Mont-Saint-Michel\, 50170\, France
END:VEVENT
END:VCALENDAR