BEGIN:VCALENDAR
VERSION:2.0
PRODID:-//Histemé - Histoire Territoires Mémoires - ECPv6.15.18//NONSGML v1.0//EN
CALSCALE:GREGORIAN
METHOD:PUBLISH
X-WR-CALNAME:Histemé - Histoire Territoires Mémoires
X-ORIGINAL-URL:https://histeme.unicaen.fr
X-WR-CALDESC:Évènements pour Histemé - Histoire Territoires Mémoires
REFRESH-INTERVAL;VALUE=DURATION:PT1H
X-Robots-Tag:noindex
X-PUBLISHED-TTL:PT1H
BEGIN:VTIMEZONE
TZID:Europe/Paris
BEGIN:DAYLIGHT
TZOFFSETFROM:+0100
TZOFFSETTO:+0200
TZNAME:CEST
DTSTART:20240331T010000
END:DAYLIGHT
BEGIN:STANDARD
TZOFFSETFROM:+0200
TZOFFSETTO:+0100
TZNAME:CET
DTSTART:20241027T010000
END:STANDARD
BEGIN:DAYLIGHT
TZOFFSETFROM:+0100
TZOFFSETTO:+0200
TZNAME:CEST
DTSTART:20250330T010000
END:DAYLIGHT
BEGIN:STANDARD
TZOFFSETFROM:+0200
TZOFFSETTO:+0100
TZNAME:CET
DTSTART:20251026T010000
END:STANDARD
BEGIN:DAYLIGHT
TZOFFSETFROM:+0100
TZOFFSETTO:+0200
TZNAME:CEST
DTSTART:20260329T010000
END:DAYLIGHT
BEGIN:STANDARD
TZOFFSETFROM:+0200
TZOFFSETTO:+0100
TZNAME:CET
DTSTART:20261025T010000
END:STANDARD
END:VTIMEZONE
BEGIN:VEVENT
DTSTART;TZID=Europe/Paris:20250603T140000
DTEND;TZID=Europe/Paris:20250603T180000
DTSTAMP:20260420T080118
CREATED:20240910T102740Z
LAST-MODIFIED:20250515T101318Z
UID:48512-1748959200-1748973600@histeme.unicaen.fr
SUMMARY:Séminaire "Société\, environnement et espaces ruraux"
DESCRIPTION:Le Pôle rural accueille des acteurs de la protection de la nature en Normandie : \n\n\n\nPatrick CavaliÉArchiviste retraité du Ministère de la Transition écologique\, administrateur de l’Association pour l’histoire de la protection de la nature et de l’environnement (AHPNE)Protection de la nature et de l’environnement en Normandie. Aperçu des fonds d’archives publiques et privéesL’Association pour l’histoire de la protection de la nature et de l’environnement (AHPNE) s’est fixé comme objectif de favoriser le rassemblement\, le classement et la conservation de tout document utile à la connaissance de cette histoire. Pour ce faire\, elle réalise\, en partenariat avec les Archives nationales et les Archives départementales\, l’inventaire d’archives des acteurs privés et des associations de protection de la nature et de l’environnement. Les inventaires d’archives privées ainsi que les descriptifs des fonds d’archives conservés aux Archives nationales et départementales sont consultables sur le site Internet de l’AHPNE[1]. Parallèlement l’AHPNE publie depuis 2021 des guides des sources nationales\, régionales et thématiques\, dont celui concernant la Normandie\, qui couvre la période entre le XVIIe et le XXIe siècles. Cet instrument de recherche correspond à l’inventaire de plus de 6 000 dossiersconservés aux Archives départementales. L’ensemble de ces guides est téléchargeable[2]. Ces guides sont à la fois un outil au service d’une mémoire pour l’action\, parce qu’une société amnésique ne peut évoluer convenablement ; ils constituent également une mémoire pour l’histoire\, dont les sources sont trop souvent menacées par la négligence\, ou au contraire l’appropriation\, échappant ainsi au patrimoine collectif. Tels sont les enjeux de ces guides. \n\n\n\nArlette Savary et Joël GernezMembres du bureau du Comité Régional d’Étude pour la Protection et l’Aménagement de la Nature (CREPAN)Mémoire et actualité du Comité Régional d’Étude pour la Protection et l’Aménagement de la NatureRésumé. Le CREPAN\, Comité Régional d’Étude pour la Protection et l’Aménagement de la Nature\, a été fondé en 1968 à Caen par des personnalités déjà conscientes de l’impact important des activités humaines sur la nature. Dès lors\, le CREPAN s’est battu et se bat aujourd’hui encore pour la préservation de l’environnement avec l’appui de ses bénévoles et\, selon les moments\, d’objecteurs de conscience\, de services civiques\, de salariés. Son rôle de fédération des APNE ( \n\n\n\nAssociations de Protection de la Nature et de l’Environnement) est reconnu au travers d’agréments officiels et il défend leurs valeurs dans de nombreuses instances officielles et au travers d’actions de terrain\, dans un esprit constructif. En 2016\, le CREPAN\, fédération de l’ex-Basse Normandie\, s’est rapproché de la Haute Normandie pour fonder France Nature Environnement Normandie. Le CREPAN continue à travailler en surmontant les difficultés et le déni actuel des problématiques environnementales qui va\, hélas\, crescendo\, ce qui ne cesse de justifier l’action du CREPAN.[1]     Voir https://ressources.histoire-environnement.org/Ressources[2]     Voir https://ressources.histoire-environnement.org/Guides-des-sources-regionaux-cartographie \n\n\n\nPlus d’informations
URL:https://histeme.unicaen.fr/evenement/seminaire-du-pole-rural-societe-environnement-et-espaces-ruraux-6/
LOCATION:Caen · Campus 1 · Maison de la recherche en sciences humaines (MRSH) · Amphi\, Campus 1\, Maison de la recherche en sciences humaines (MRSH)\, 1 Esplanade de la Paix\, Caen\, 14000\, France
CATEGORIES:Séminaire
END:VEVENT
END:VCALENDAR