BEGIN:VCALENDAR
VERSION:2.0
PRODID:-//Histemé - Histoire Territoires Mémoires - ECPv6.15.18//NONSGML v1.0//EN
CALSCALE:GREGORIAN
METHOD:PUBLISH
X-ORIGINAL-URL:https://histeme.unicaen.fr
X-WR-CALDESC:Évènements pour Histemé - Histoire Territoires Mémoires
REFRESH-INTERVAL;VALUE=DURATION:PT1H
X-Robots-Tag:noindex
X-PUBLISHED-TTL:PT1H
BEGIN:VTIMEZONE
TZID:Europe/Paris
BEGIN:DAYLIGHT
TZOFFSETFROM:+0100
TZOFFSETTO:+0200
TZNAME:CEST
DTSTART:20240331T010000
END:DAYLIGHT
BEGIN:STANDARD
TZOFFSETFROM:+0200
TZOFFSETTO:+0100
TZNAME:CET
DTSTART:20241027T010000
END:STANDARD
BEGIN:DAYLIGHT
TZOFFSETFROM:+0100
TZOFFSETTO:+0200
TZNAME:CEST
DTSTART:20250330T010000
END:DAYLIGHT
BEGIN:STANDARD
TZOFFSETFROM:+0200
TZOFFSETTO:+0100
TZNAME:CET
DTSTART:20251026T010000
END:STANDARD
BEGIN:DAYLIGHT
TZOFFSETFROM:+0100
TZOFFSETTO:+0200
TZNAME:CEST
DTSTART:20260329T010000
END:DAYLIGHT
BEGIN:STANDARD
TZOFFSETFROM:+0200
TZOFFSETTO:+0100
TZNAME:CET
DTSTART:20261025T010000
END:STANDARD
END:VTIMEZONE
BEGIN:VEVENT
DTSTART;TZID=Europe/Paris:20250620T090000
DTEND;TZID=Europe/Paris:20250620T180000
DTSTAMP:20260422T014339
CREATED:20250430T095924Z
LAST-MODIFIED:20250519T090858Z
UID:49053-1750410000-1750442400@histeme.unicaen.fr
SUMMARY:13e congrès de l’Association française des enseignants et chercheurs en cinéma et audiovisuel : « Écrits sur l’écran. Écrire pour\, dans et au sujet des productions cinématographiques et Audiovisuelles »
DESCRIPTION:Congrès co-organisé par Paola Palma \n\n\n\nAffiche du congrès \n\n\n\nProgramme complet ci-dessous \n\n\n\nCongrès AFECCAV programme (pdf · 854 Ko)Télécharger (pdf · 854 Ko)
URL:https://histeme.unicaen.fr/evenement/13e-congres-de-lassociation-francaise-des-enseignants-et-chercheurs-en-cinema-et-audiovisuel-ecrits-sur-lecran-ecrire-pour-dans-et-au-sujet-des-productions-cinem/
LOCATION:Caen · Campus 1 · Maison de la recherche en sciences humaines (MRSH) · Amphi\, Campus 1\, Maison de la recherche en sciences humaines (MRSH)\, 1 Esplanade de la Paix\, Caen\, 14000\, France
END:VEVENT
END:VCALENDAR