BEGIN:VCALENDAR
VERSION:2.0
PRODID:-//Histemé - Histoire Territoires Mémoires - ECPv6.15.18//NONSGML v1.0//EN
CALSCALE:GREGORIAN
METHOD:PUBLISH
X-WR-CALNAME:Histemé - Histoire Territoires Mémoires
X-ORIGINAL-URL:https://histeme.unicaen.fr
X-WR-CALDESC:Évènements pour Histemé - Histoire Territoires Mémoires
REFRESH-INTERVAL;VALUE=DURATION:PT1H
X-Robots-Tag:noindex
X-PUBLISHED-TTL:PT1H
BEGIN:VTIMEZONE
TZID:Europe/Paris
BEGIN:DAYLIGHT
TZOFFSETFROM:+0100
TZOFFSETTO:+0200
TZNAME:CEST
DTSTART:20240331T010000
END:DAYLIGHT
BEGIN:STANDARD
TZOFFSETFROM:+0200
TZOFFSETTO:+0100
TZNAME:CET
DTSTART:20241027T010000
END:STANDARD
BEGIN:DAYLIGHT
TZOFFSETFROM:+0100
TZOFFSETTO:+0200
TZNAME:CEST
DTSTART:20250330T010000
END:DAYLIGHT
BEGIN:STANDARD
TZOFFSETFROM:+0200
TZOFFSETTO:+0100
TZNAME:CET
DTSTART:20251026T010000
END:STANDARD
BEGIN:DAYLIGHT
TZOFFSETFROM:+0100
TZOFFSETTO:+0200
TZNAME:CEST
DTSTART:20260329T010000
END:DAYLIGHT
BEGIN:STANDARD
TZOFFSETFROM:+0200
TZOFFSETTO:+0100
TZNAME:CET
DTSTART:20261025T010000
END:STANDARD
END:VTIMEZONE
BEGIN:VEVENT
DTSTART;TZID=Europe/Paris:20251002T140000
DTEND;TZID=Europe/Paris:20251002T180000
DTSTAMP:20260420T082013
CREATED:20251001T094230Z
LAST-MODIFIED:20251001T101829Z
UID:89118-1759413600-1759428000@histeme.unicaen.fr
SUMMARY:Soutenance de thèse de Charlotte Barnabé
DESCRIPTION:Sous la direction de F.Rouquet : « Des relations sexuelles avec l’οccupant : des échanges épistοlaires aux viοlences sexuelles (France 1940-1944) ». \n\n\n\nMembres du jury :  \n\n\n\nElissa Mailander (PU Associate Professor at the Centre d’histoire de Sciences Po) \n\n\n\nCamille Fauroux (MCF Toulouse 2) \n\n\n\nAnne Simonin (Directrice de recherche EHESS) \n\n\n\nClémentine Vidal-Naquet (PU Université du Havre) \n\n\n\nFabrice Virgili (Directeur de recherche SIRICE-CBRS)
URL:https://histeme.unicaen.fr/evenement/soutenance-de-these-de-charlotte-barnabe/
LOCATION:Caen · Campus 1 · Maison de la recherche en sciences humaines (MRSH) · Amphi\, Campus 1\, Maison de la recherche en sciences humaines (MRSH)\, 1 Esplanade de la Paix\, Caen\, 14000\, France
END:VEVENT
END:VCALENDAR