BEGIN:VCALENDAR
VERSION:2.0
PRODID:-//Histemé - Histoire Territoires Mémoires - ECPv6.15.18//NONSGML v1.0//EN
CALSCALE:GREGORIAN
METHOD:PUBLISH
X-ORIGINAL-URL:https://histeme.unicaen.fr
X-WR-CALDESC:Évènements pour Histemé - Histoire Territoires Mémoires
REFRESH-INTERVAL;VALUE=DURATION:PT1H
X-Robots-Tag:noindex
X-PUBLISHED-TTL:PT1H
BEGIN:VTIMEZONE
TZID:Europe/Paris
BEGIN:DAYLIGHT
TZOFFSETFROM:+0100
TZOFFSETTO:+0200
TZNAME:CEST
DTSTART:20240331T010000
END:DAYLIGHT
BEGIN:STANDARD
TZOFFSETFROM:+0200
TZOFFSETTO:+0100
TZNAME:CET
DTSTART:20241027T010000
END:STANDARD
BEGIN:DAYLIGHT
TZOFFSETFROM:+0100
TZOFFSETTO:+0200
TZNAME:CEST
DTSTART:20250330T010000
END:DAYLIGHT
BEGIN:STANDARD
TZOFFSETFROM:+0200
TZOFFSETTO:+0100
TZNAME:CET
DTSTART:20251026T010000
END:STANDARD
BEGIN:DAYLIGHT
TZOFFSETFROM:+0100
TZOFFSETTO:+0200
TZNAME:CEST
DTSTART:20260329T010000
END:DAYLIGHT
BEGIN:STANDARD
TZOFFSETFROM:+0200
TZOFFSETTO:+0100
TZNAME:CET
DTSTART:20261025T010000
END:STANDARD
END:VTIMEZONE
BEGIN:VEVENT
DTSTART;TZID=Europe/Paris:20251022T100000
DTEND;TZID=Europe/Paris:20251022T130000
DTSTAMP:20260425T201348
CREATED:20250916T133620Z
LAST-MODIFIED:20250930T081954Z
UID:89089-1761127200-1761138000@histeme.unicaen.fr
SUMMARY:Séminaire La Fabrique du politique
DESCRIPTION:Amphi de la MRSH \n\n\n\nSéance consacrée à « Faire une histoire de l’intime dans une perspective politique » \n\n\n\nAïcha Limbada (Maîtresse de conférences à l’Université d’Artois\, CREHS)\, « Perspectives politiques d’une histoire de la conjugalité » \n\n\n\nPhilippe Artières (Directeur de recherche au CNRS\, IRIS)\, « L’extime : une politique de l’intime » \n\n\n\nOrganisateur : Brice EVAIN
URL:https://histeme.unicaen.fr/evenement/seminaire-la-fabrique-du-politique-25/
CATEGORIES:Séminaire
END:VEVENT
BEGIN:VEVENT
DTSTART;TZID=Europe/Paris:20251022T143000
DTEND;TZID=Europe/Paris:20251022T173000
DTSTAMP:20260425T201348
CREATED:20250910T092124Z
LAST-MODIFIED:20250912T070805Z
UID:89005-1761143400-1761154200@histeme.unicaen.fr
SUMMARY:Séminaire Traces de guerre
DESCRIPTION:Séminaire Seconde Guerre mondialeSous la direction de Gaël Eismann et François Rouquet \n\n\n\nLignes de fuite\, l’exil des collaborateurs français après 1945 par Marc Bergère\, professeur d’histoire contemporaine à l’université de Rennes 2
URL:https://histeme.unicaen.fr/evenement/seminaire-traces-de-guerre-16/
LOCATION:Caen · Mémorial de Caen\, Mémorial de Caen\, Esplanade Général Eisenhower\, Caen\, 14000\, France
CATEGORIES:Séminaire
END:VEVENT
END:VCALENDAR