BEGIN:VCALENDAR
VERSION:2.0
PRODID:-//Histemé - Histoire Territoires Mémoires - ECPv6.15.18//NONSGML v1.0//EN
CALSCALE:GREGORIAN
METHOD:PUBLISH
X-WR-CALNAME:Histemé - Histoire Territoires Mémoires
X-ORIGINAL-URL:https://histeme.unicaen.fr
X-WR-CALDESC:Évènements pour Histemé - Histoire Territoires Mémoires
REFRESH-INTERVAL;VALUE=DURATION:PT1H
X-Robots-Tag:noindex
X-PUBLISHED-TTL:PT1H
BEGIN:VTIMEZONE
TZID:Europe/Paris
BEGIN:DAYLIGHT
TZOFFSETFROM:+0100
TZOFFSETTO:+0200
TZNAME:CEST
DTSTART:20240331T010000
END:DAYLIGHT
BEGIN:STANDARD
TZOFFSETFROM:+0200
TZOFFSETTO:+0100
TZNAME:CET
DTSTART:20241027T010000
END:STANDARD
BEGIN:DAYLIGHT
TZOFFSETFROM:+0100
TZOFFSETTO:+0200
TZNAME:CEST
DTSTART:20250330T010000
END:DAYLIGHT
BEGIN:STANDARD
TZOFFSETFROM:+0200
TZOFFSETTO:+0100
TZNAME:CET
DTSTART:20251026T010000
END:STANDARD
BEGIN:DAYLIGHT
TZOFFSETFROM:+0100
TZOFFSETTO:+0200
TZNAME:CEST
DTSTART:20260329T010000
END:DAYLIGHT
BEGIN:STANDARD
TZOFFSETFROM:+0200
TZOFFSETTO:+0100
TZNAME:CET
DTSTART:20261025T010000
END:STANDARD
END:VTIMEZONE
BEGIN:VEVENT
DTSTART;TZID=Europe/Paris:20251203T100000
DTEND;TZID=Europe/Paris:20251203T130000
DTSTAMP:20260424T081155
CREATED:20250916T133914Z
LAST-MODIFIED:20250930T082155Z
UID:89093-1764756000-1764766800@histeme.unicaen.fr
SUMMARY:Séminaire La Fabrique du politique
DESCRIPTION:Séance consacrée à la « Méthodologie du mémoire : partages d’expériences étudiantes de Master 1 et 2«  \n\n\n\nOlivier Peyre\, Du débat aux discordes : les députés LREM/RE face à l’application de la discipline parlementaire à l’occasion des lois Collomb et Darmanin (XVe et XVIe législatures) – M1  \n\n\n\nJean-André Esseh-Yovo\, Le rôle des organisations internationales et sous-régionales dans l’analyse et la validation des résultats électoraux présidentiels au Togo (2004-2020) – M1. \n\n\n\nDeux présentations de Master 2. 
URL:https://histeme.unicaen.fr/evenement/seminaire-la-fabrique-du-politique-27/
LOCATION:Caen · Campus 1 · Maison de la recherche en sciences humaines (MRSH) · Salle des Actes (SH-027)\, Campus 1\, Maison de la recherche en sciences humaines (MRSH)\, 1 Esplanade de la Paix\, Caen\, 14000\, France
CATEGORIES:Séminaire
END:VEVENT
BEGIN:VEVENT
DTSTART;TZID=Europe/Paris:20251203T133000
DTEND;TZID=Europe/Paris:20251203T160000
DTSTAMP:20260424T081155
CREATED:20250910T092326Z
LAST-MODIFIED:20251203T075441Z
UID:89007-1764768600-1764777600@histeme.unicaen.fr
SUMMARY:ANNULÉ - Séminaire Traces de guerre
DESCRIPTION:Séminaire Seconde Guerre mondialeSous la direction de Gaël Eismann et François Rouquet \n\n\n\nAu nom de la loi. La persécution quotidienne des Juifs à Paris sous l’Occupation par Johanna Lehr\, historienne\, psychologue clinicienne à l’université Paris 7
URL:https://histeme.unicaen.fr/evenement/seminaire-traces-de-guerre-17/
LOCATION:Caen · Campus 1 · Maison de la recherche en sciences humaines (MRSH) · Salle des Actes (SH-027)\, Campus 1\, Maison de la recherche en sciences humaines (MRSH)\, 1 Esplanade de la Paix\, Caen\, 14000\, France
CATEGORIES:Séminaire
END:VEVENT
END:VCALENDAR