BEGIN:VCALENDAR
VERSION:2.0
PRODID:-//Histemé - Histoire Territoires Mémoires - ECPv6.15.18//NONSGML v1.0//EN
CALSCALE:GREGORIAN
METHOD:PUBLISH
X-ORIGINAL-URL:https://histeme.unicaen.fr
X-WR-CALDESC:Évènements pour Histemé - Histoire Territoires Mémoires
REFRESH-INTERVAL;VALUE=DURATION:PT1H
X-Robots-Tag:noindex
X-PUBLISHED-TTL:PT1H
BEGIN:VTIMEZONE
TZID:Europe/Paris
BEGIN:DAYLIGHT
TZOFFSETFROM:+0100
TZOFFSETTO:+0200
TZNAME:CEST
DTSTART:20250330T010000
END:DAYLIGHT
BEGIN:STANDARD
TZOFFSETFROM:+0200
TZOFFSETTO:+0100
TZNAME:CET
DTSTART:20251026T010000
END:STANDARD
BEGIN:DAYLIGHT
TZOFFSETFROM:+0100
TZOFFSETTO:+0200
TZNAME:CEST
DTSTART:20260329T010000
END:DAYLIGHT
BEGIN:STANDARD
TZOFFSETFROM:+0200
TZOFFSETTO:+0100
TZNAME:CET
DTSTART:20261025T010000
END:STANDARD
BEGIN:DAYLIGHT
TZOFFSETFROM:+0100
TZOFFSETTO:+0200
TZNAME:CEST
DTSTART:20270328T010000
END:DAYLIGHT
BEGIN:STANDARD
TZOFFSETFROM:+0200
TZOFFSETTO:+0100
TZNAME:CET
DTSTART:20271031T010000
END:STANDARD
END:VTIMEZONE
BEGIN:VEVENT
DTSTART;TZID=Europe/Paris:20260202T180000
DTEND;TZID=Europe/Paris:20260202T200000
DTSTAMP:20260422T014225
CREATED:20260123T095447Z
LAST-MODIFIED:20260123T095512Z
UID:89209-1770055200-1770062400@histeme.unicaen.fr
SUMMARY:Projection "Haute solitude" Jean Zay
DESCRIPTION:Laurent Véray viendra présenter lundi 2 février prochain à 18h à l’amphithéâtre de la MRSH son dernier film\, Haute Solitude. Ce documentaire retrace les quatre années de captivité de Jean Zay pendant la Seconde Guerre mondiale\, jusqu’à son assassinat par la milice française le 20 juin 1944. Il en propose un récit intime\, construit à partir de des écrits et des archives privées de Jean Zay auxquelles Laurent Véray a eu accès par l’intermédiaire de ses deux filles. \n\n\n\nLa projection sera suivie d’une discussion avec Gaël Eismann  (PU en Histoire contemporaine) et François Rouquet (PU émérite en Histoire Contemporaine)\, animée par Myriam Juan (MCF en Études cinématographiques) et Paola Palma (MCF en Études cinématographiques). \n\n\n\nLa projection est gratuite.
URL:https://histeme.unicaen.fr/evenement/projection-haute-solitude-jean-zay/
LOCATION:Caen · Campus 1 · Maison de la recherche en sciences humaines (MRSH) · Amphi\, Campus 1\, Maison de la recherche en sciences humaines (MRSH)\, 1 Esplanade de la Paix\, Caen\, 14000\, France
CATEGORIES:Projection – Cinéma
END:VEVENT
END:VCALENDAR