BEGIN:VCALENDAR
VERSION:2.0
PRODID:-//Histemé - Histoire Territoires Mémoires - ECPv6.15.18//NONSGML v1.0//EN
CALSCALE:GREGORIAN
METHOD:PUBLISH
X-WR-CALNAME:Histemé - Histoire Territoires Mémoires
X-ORIGINAL-URL:https://histeme.unicaen.fr
X-WR-CALDESC:Évènements pour Histemé - Histoire Territoires Mémoires
REFRESH-INTERVAL;VALUE=DURATION:PT1H
X-Robots-Tag:noindex
X-PUBLISHED-TTL:PT1H
BEGIN:VTIMEZONE
TZID:Europe/Paris
BEGIN:DAYLIGHT
TZOFFSETFROM:+0100
TZOFFSETTO:+0200
TZNAME:CEST
DTSTART:20250330T010000
END:DAYLIGHT
BEGIN:STANDARD
TZOFFSETFROM:+0200
TZOFFSETTO:+0100
TZNAME:CET
DTSTART:20251026T010000
END:STANDARD
BEGIN:DAYLIGHT
TZOFFSETFROM:+0100
TZOFFSETTO:+0200
TZNAME:CEST
DTSTART:20260329T010000
END:DAYLIGHT
BEGIN:STANDARD
TZOFFSETFROM:+0200
TZOFFSETTO:+0100
TZNAME:CET
DTSTART:20261025T010000
END:STANDARD
BEGIN:DAYLIGHT
TZOFFSETFROM:+0100
TZOFFSETTO:+0200
TZNAME:CEST
DTSTART:20270328T010000
END:DAYLIGHT
BEGIN:STANDARD
TZOFFSETFROM:+0200
TZOFFSETTO:+0100
TZNAME:CET
DTSTART:20271031T010000
END:STANDARD
END:VTIMEZONE
BEGIN:VEVENT
DTSTART;TZID=Europe/Paris:20260212T170000
DTEND;TZID=Europe/Paris:20260212T190000
DTSTAMP:20260424T081141
CREATED:20260126T144226Z
LAST-MODIFIED:20260130T091510Z
UID:89215-1770915600-1770922800@histeme.unicaen.fr
SUMMARY:Séminaire Pratiques et Pensées de l'émancipation
DESCRIPTION:Séance intitulée De la rue à l’actu. Articuler luttes et informations: \n\n\n\nSeront reçus des membres du Havre des luttes\, média militant et collectif de lutte contre les inégalités au Havre. Sans se revendiquer journalistes\, les bénévoles du Havre des luttes dénoncent les discriminations économiques et sociales – notamment en lien avec la politique du maire du Havre Edouard Philippe – et donnent la parole aux collectifs locaux. Lutte contre les violences sexistes et sexuelles\, anti-impérialisme ou droit à l’éducation\, Le Havre des luttes investit les réseaux sociaux\, Facebook\, Instagram et Youtube\, pour visibiliser ces sujets et alerter. Un autre objectif du collectif est de s’auto-former\, aussi bien à la prise de vue\, la prise de parole en public ou simplement aux théories militantes\, notamment avec des Ateliers politiques populaires.Joanne Lehoux\, journaliste pigiste et documentariste sonore caennaise. Depuis ses premières chroniques bénévoles à Radio Phénix jusqu’à ses contributions pour le Poulpe\, Street Press ou Grand Format\, elle s’intéresse particulièrement aux luttes sociales. Elle aime varier les formats\, réalisant aussi bien des enquêtes écrites\, du dessin de presse que du documentaire sonore. Elle témoigne des difficultés à se faire une place en tant que jeune journaliste pigiste et à naviguer entre la mainmise des grandes fortunes sur les médias et la précarité du métier.
URL:https://histeme.unicaen.fr/evenement/seminaire-pratiques-et-pensees-de-lemancipation/
LOCATION:Caen · Campus 1 · Maison de la recherche en sciences humaines (MRSH) · Salle des Actes (SH-027)\, Campus 1\, Maison de la recherche en sciences humaines (MRSH)\, 1 Esplanade de la Paix\, Caen\, 14000\, France
END:VEVENT
END:VCALENDAR