BEGIN:VCALENDAR
VERSION:2.0
PRODID:-//Histemé - Histoire Territoires Mémoires - ECPv6.15.18//NONSGML v1.0//EN
CALSCALE:GREGORIAN
METHOD:PUBLISH
X-ORIGINAL-URL:https://histeme.unicaen.fr
X-WR-CALDESC:Évènements pour Histemé - Histoire Territoires Mémoires
REFRESH-INTERVAL;VALUE=DURATION:PT1H
X-Robots-Tag:noindex
X-PUBLISHED-TTL:PT1H
BEGIN:VTIMEZONE
TZID:Europe/Paris
BEGIN:DAYLIGHT
TZOFFSETFROM:+0100
TZOFFSETTO:+0200
TZNAME:CEST
DTSTART:20250330T010000
END:DAYLIGHT
BEGIN:STANDARD
TZOFFSETFROM:+0200
TZOFFSETTO:+0100
TZNAME:CET
DTSTART:20251026T010000
END:STANDARD
BEGIN:DAYLIGHT
TZOFFSETFROM:+0100
TZOFFSETTO:+0200
TZNAME:CEST
DTSTART:20260329T010000
END:DAYLIGHT
BEGIN:STANDARD
TZOFFSETFROM:+0200
TZOFFSETTO:+0100
TZNAME:CET
DTSTART:20261025T010000
END:STANDARD
BEGIN:DAYLIGHT
TZOFFSETFROM:+0100
TZOFFSETTO:+0200
TZNAME:CEST
DTSTART:20270328T010000
END:DAYLIGHT
BEGIN:STANDARD
TZOFFSETFROM:+0200
TZOFFSETTO:+0100
TZNAME:CET
DTSTART:20271031T010000
END:STANDARD
END:VTIMEZONE
BEGIN:VEVENT
DTSTART;TZID=Europe/Paris:20260318T100000
DTEND;TZID=Europe/Paris:20260318T130000
DTSTAMP:20260421T214236
CREATED:20250916T134206Z
LAST-MODIFIED:20250930T082610Z
UID:89097-1773828000-1773838800@histeme.unicaen.fr
SUMMARY:Séminaire La Fabrique du politique
DESCRIPTION:Séance consacrée à « réfugiés\, déplacés ou l’intime apatride » \n\n\n\nDelphine Diaz (Maîtresse de conférence HDR à l’Université Reims-Champagne Ardennes\, CERHIC/IUF/ICM) : « Enfances en migrations\, enfances en guerre » \n\n\n\nMarianne Amar (Historienne\, ISP/ICM) : « Émotions et affects dans l’administration des personnes déplacées de la Seconde Guerre mondiale à travers les archives de l’Américaine Kathryn Hulme »
URL:https://histeme.unicaen.fr/evenement/seminaire-la-fabrique-du-politique-29/
LOCATION:Caen · Campus 1 · Maison de la recherche en sciences humaines (MRSH) · Salle des Actes (SH-027)\, Campus 1\, Maison de la recherche en sciences humaines (MRSH)\, 1 Esplanade de la Paix\, Caen\, 14000\, France
END:VEVENT
END:VCALENDAR