BEGIN:VCALENDAR
VERSION:2.0
PRODID:-//Histemé - Histoire Territoires Mémoires - ECPv6.15.18//NONSGML v1.0//EN
CALSCALE:GREGORIAN
METHOD:PUBLISH
X-WR-CALNAME:Histemé - Histoire Territoires Mémoires
X-ORIGINAL-URL:https://histeme.unicaen.fr
X-WR-CALDESC:Évènements pour Histemé - Histoire Territoires Mémoires
REFRESH-INTERVAL;VALUE=DURATION:PT1H
X-Robots-Tag:noindex
X-PUBLISHED-TTL:PT1H
BEGIN:VTIMEZONE
TZID:Europe/Paris
BEGIN:DAYLIGHT
TZOFFSETFROM:+0100
TZOFFSETTO:+0200
TZNAME:CEST
DTSTART:20220327T010000
END:DAYLIGHT
BEGIN:STANDARD
TZOFFSETFROM:+0200
TZOFFSETTO:+0100
TZNAME:CET
DTSTART:20221030T010000
END:STANDARD
BEGIN:DAYLIGHT
TZOFFSETFROM:+0100
TZOFFSETTO:+0200
TZNAME:CEST
DTSTART:20230326T010000
END:DAYLIGHT
BEGIN:STANDARD
TZOFFSETFROM:+0200
TZOFFSETTO:+0100
TZNAME:CET
DTSTART:20231029T010000
END:STANDARD
BEGIN:DAYLIGHT
TZOFFSETFROM:+0100
TZOFFSETTO:+0200
TZNAME:CEST
DTSTART:20240331T010000
END:DAYLIGHT
BEGIN:STANDARD
TZOFFSETFROM:+0200
TZOFFSETTO:+0100
TZNAME:CET
DTSTART:20241027T010000
END:STANDARD
END:VTIMEZONE
BEGIN:VEVENT
DTSTART;TZID=Europe/Paris:20230403T100000
DTEND;TZID=Europe/Paris:20230403T170000
DTSTAMP:20260422T212606
CREATED:20230328T104617Z
LAST-MODIFIED:20230328T104617Z
UID:32889-1680516000-1680541200@histeme.unicaen.fr
SUMMARY:6e journée “Antiquité en Normandie”
DESCRIPTION:Salle Madeleine de Scudéry – PRSH \nProgramme: \n10h00 Accueil \n10h30 Typhaine HAZIZA (MCF en histoire ancienne\, Université de Caen Normandie) : « Le jeu comme motif de conte dans la littérature grecque antique ».11h00 Adèle VORSANGER (ATER en histoire grecque\, Université de Caen Normandie) : « Routes\, circulations et occupations du territoire en Mégaride ».11h30 Anissa YELLES (ATER en histoire romaine\, Université de Caen Normandie) : « Archéologie du fait urbain à Timgad. Etude infographique des archives de fouilles ». \n12h00 Pause \n14h30 Marine LEROY (Doctorante contractuelle\, Université de Rouen Normandie /Université de Caen Normandie) : “Cette aigle à qui\, chez toi\, tu avais dressé un sanctuaire criminel”(Cic.\, Prem. Catilin.\, IX\, 24). Remarques sur le “culte” des enseignes de l’armée romaine ».15h00 Quentin FIROUL (Doctorant\, Université de Rouen Normandie) : « Frumentaires et speculatores dans les castra peregrina de Rome ».\n \n15h30 Pause \n15h45 Enora LE QUERE (MCF HDR en histoire grecque\, Université de Rouen Normandie) : « Le monde grec des foulons. Microhistoire et archéologie d’un métier du textile dans l’Orient grec ».16h15 Christel FREU (MCF HDR en histoire romaine\, Université de Rouen Normandie) : « La filière textile en Égypte romaine et tardo-antique : capital\, métiers et division du travail ».
URL:https://histeme.unicaen.fr/evenement/6e-journee-antiquite-en-normandie/
LOCATION:Le Havre · Université Le Havre Normandie\, Université Le Havre Normandie\, 25 Rue Philippe Lebon\, Le Havre\, 76600\, France
CATEGORIES:Journée d'étude
END:VEVENT
BEGIN:VEVENT
DTSTART;TZID=Europe/Paris:20230404T140000
DTEND;TZID=Europe/Paris:20230404T180000
DTSTAMP:20260422T212606
CREATED:20221006T191018Z
LAST-MODIFIED:20230404T144133Z
UID:32641-1680616800-1680631200@histeme.unicaen.fr
SUMMARY:Séminaire Villes et sciences sociales
DESCRIPTION:VILLES EN GUERRE \nMémoires urbaines de la guerre\n \nOrganisateur : Pierre Bergel \nCorinne Bouillot (Maîtresse de Conférences en  civilisation germanique\, Université de Rouen)\, Pierre Bergel (Professeur de Géographie\, Université de Caen) : Mémoires de la destruction urbaine : étude de cas sur quatre villes en France et en Allemagne. \nSonia Anton (Maîtresse de Conférences en Littérature française\, Université du Havre) : Destruction du Havre et écriture littéraire
URL:https://histeme.unicaen.fr/evenement/seminaire-villes-et-sciences-sociales-6/
LOCATION:Caen · Campus 1 · Maison de la recherche en sciences humaines (MRSH) · Amphi\, Campus 1\, Maison de la recherche en sciences humaines (MRSH)\, 1 Esplanade de la Paix\, Caen\, 14000\, France
CATEGORIES:Séminaire
END:VEVENT
BEGIN:VEVENT
DTSTART;TZID=Europe/Paris:20230404T160000
DTEND;TZID=Europe/Paris:20230404T180000
DTSTAMP:20260422T212606
CREATED:20230130T134629Z
LAST-MODIFIED:20230130T134629Z
UID:32778-1680624000-1680631200@histeme.unicaen.fr
SUMMARY:Séminaire des doctorants
DESCRIPTION:Faire communauté (inter)nationale\nL’ONU et la définition du terrorisme – Corentin Sire (doctorant Histemé) \nLe Royaume-Uni et la définition de la nation – Victor Faingnaert (doctorant Histemé)
URL:https://histeme.unicaen.fr/evenement/seminaire-des-doctorants-8/
LOCATION:Caen · Campus 1 · Maison de la recherche en sciences humaines (MRSH) · Salle des Actes (SH-027)\, Campus 1\, Maison de la recherche en sciences humaines (MRSH)\, 1 Esplanade de la Paix\, Caen\, 14000\, France
CATEGORIES:Séminaire des doctorants
END:VEVENT
BEGIN:VEVENT
DTSTART;TZID=Europe/Paris:20230407T090000
DTEND;TZID=Europe/Paris:20230407T180000
DTSTAMP:20260422T212606
CREATED:20220913T024412Z
LAST-MODIFIED:20220913T024412Z
UID:4919-1680858000-1680890400@histeme.unicaen.fr
SUMMARY:Séminaire Le Temps de l’Empire ibérique (XVe - XVIIIe siècles)
DESCRIPTION:La fabrique de l’Empire : Conserver et restaurer la concorde \n(il est possible de les suivre en ligne ; pour cela\, contacter alexandra.merle@unicaen.fr) \nLa participation est obligatoire pour tous les étudiants inscrits dans ce séminaire :\nM.1HRP4F\, M.1HRP9F\, M2HRP2F\, M.2HRP5F \nResponsables : Valeria Allaire\, Loann Berens\, Ariane Boltanski\, Marie-Lucie Copete\, Juan Carlos D’Amico\, Manuela Águeda García Garrido\, Alexandra Merle\, Alejandra Testino-Zafiropoulos \nSoutenu par ERLIS (EA 4254) et par HISTEMÉ (EA 7455) avec l’appui de la MRSH \nJournée d’étude\, programme à préciser
URL:https://histeme.unicaen.fr/evenement/seminaire-le-temps-de-lempire-iberique-xve-xviiie-siecles-8/
LOCATION:Caen · Campus 1 · Maison de la recherche en sciences humaines (MRSH) · Amphi\, Campus 1\, Maison de la recherche en sciences humaines (MRSH)\, 1 Esplanade de la Paix\, Caen\, 14000\, France
CATEGORIES:Séminaire
END:VEVENT
BEGIN:VEVENT
DTSTART;TZID=Europe/Paris:20230411T140000
DTEND;TZID=Europe/Paris:20230411T160000
DTSTAMP:20260422T212606
CREATED:20220908T141125Z
LAST-MODIFIED:20230330T093436Z
UID:4875-1681221600-1681228800@histeme.unicaen.fr
SUMMARY:Séminaire La Fabrique du politique
DESCRIPTION:SEANCE 6 : Mercredi 11 avril 2023\, 14h00 à 16h00\, Amphi Rouelle (Bat N) \nFrédéric Régent (Histoire moderne\, Université Paris 1 Panthéon-Sorbonne\, IHMC)\, Les droits des personnes dans les colonies\, 1789-1815.
URL:https://histeme.unicaen.fr/evenement/seminaire-la-fabrique-du-politique-6/
LOCATION:Caen · Campus 1 · Bâtiment N · Amphi Guillaume-François Rouelle\, Esplanade de la Paix\, Caen\, 14000\, France
CATEGORIES:Séminaire
END:VEVENT
BEGIN:VEVENT
DTSTART;TZID=Europe/Paris:20230411T143000
DTEND;TZID=Europe/Paris:20230411T180000
DTSTAMP:20260422T212606
CREATED:20220913T031309Z
LAST-MODIFIED:20220913T031739Z
UID:4933-1681223400-1681236000@histeme.unicaen.fr
SUMMARY:Séminaire du Pôle Rural
DESCRIPTION:Sociétés et espaces ruraux \nResponsables :\nAnna TRESPEUCH (HISTEMÉ\, EA 7455)\, Élisabeth RIDEL-GRANGER (CNRS-MRSH\, PÔLE RURAL)\, Philippe MADELINE (ESO-CAEN\, UMR 6590). \nLe pôle rural accueille des acteurs…\nSébastien ÉTIENNE\, ingénieur à l’Office National des Forêts : « La forêt mosaïque »Bruno LORIOT et Nadège CARLIER\, association graine – groupement\nrégional d’animation et d’initiation à la nature et à l’environnement – normandie: « L’éducation à l’environnement »
URL:https://histeme.unicaen.fr/evenement/seminaire-du-pole-rural-6/
LOCATION:Caen · Campus 1 · Maison de la recherche en sciences humaines (MRSH) · Amphi\, Campus 1\, Maison de la recherche en sciences humaines (MRSH)\, 1 Esplanade de la Paix\, Caen\, 14000\, France
CATEGORIES:Séminaire
END:VEVENT
BEGIN:VEVENT
DTSTART;TZID=Europe/Paris:20230413T180000
DTEND;TZID=Europe/Paris:20230413T180000
DTSTAMP:20260422T212606
CREATED:20230321T132245Z
LAST-MODIFIED:20230321T132245Z
UID:32850-1681408800-1681408800@histeme.unicaen.fr
SUMMARY:Conférence "La pêche à la baleine"
DESCRIPTION:Communication de Cédric Coicaud \nInformations à venir
URL:https://histeme.unicaen.fr/evenement/conference-la-peche-a-la-baleine/
LOCATION:Cherbourg-en-Cotentin · Service Historique de la Défense\, Service Historique de la Défense\, 57 Rue de l'Abbaye\, Cherbourg-en-Cotentin\, 50100\, France
CATEGORIES:Conférence
END:VEVENT
BEGIN:VEVENT
DTSTART;TZID=Europe/Paris:20230414T140000
DTEND;TZID=Europe/Paris:20230414T180000
DTSTAMP:20260422T212606
CREATED:20220901T132822Z
LAST-MODIFIED:20220920T123542Z
UID:4819-1681480800-1681495200@histeme.unicaen.fr
SUMMARY:Séminaire Histoire culturelle
DESCRIPTION:Jeûne et restrictions alimentaires\, de l’Antiquité à nos jours : regards croisés \n\nIsabelle Boehm\, professeure de linguistique et littérature grecques à l’Université Lumière Lyon 2 / UMR 5189 HiSoMA : Restrictions et interdits alimentaires dans le monde gréco-romain : réflexions sur quelques exemples de prescriptions dans les traités médicaux hippocratiques et galéniques\nLaura Bellenchombre\, doctorante en socio-anthropologie\, DySoLab\, Université de Rouen-Normandie : Le jeûne comme recours de santé en France par une approche socio-anthropologique\n\n 
URL:https://histeme.unicaen.fr/evenement/seminaire-histoire-culturelle-7/
LOCATION:Saint-Germain-la-Blanche-Herbe · IMEC\, IMEC\, L'Abbaye D'Ardenne\, 3 Rue Youf du Marché\, Saint-Germain-la-Blanche-Herbe\, 14280\, France
CATEGORIES:Séminaire
END:VEVENT
END:VCALENDAR