BEGIN:VCALENDAR
VERSION:2.0
PRODID:-//Histemé - Histoire Territoires Mémoires - ECPv6.15.18//NONSGML v1.0//EN
CALSCALE:GREGORIAN
METHOD:PUBLISH
X-WR-CALNAME:Histemé - Histoire Territoires Mémoires
X-ORIGINAL-URL:https://histeme.unicaen.fr
X-WR-CALDESC:Évènements pour Histemé - Histoire Territoires Mémoires
REFRESH-INTERVAL;VALUE=DURATION:PT1H
X-Robots-Tag:noindex
X-PUBLISHED-TTL:PT1H
BEGIN:VTIMEZONE
TZID:Europe/Paris
BEGIN:DAYLIGHT
TZOFFSETFROM:+0100
TZOFFSETTO:+0200
TZNAME:CEST
DTSTART:20220327T010000
END:DAYLIGHT
BEGIN:STANDARD
TZOFFSETFROM:+0200
TZOFFSETTO:+0100
TZNAME:CET
DTSTART:20221030T010000
END:STANDARD
BEGIN:DAYLIGHT
TZOFFSETFROM:+0100
TZOFFSETTO:+0200
TZNAME:CEST
DTSTART:20230326T010000
END:DAYLIGHT
BEGIN:STANDARD
TZOFFSETFROM:+0200
TZOFFSETTO:+0100
TZNAME:CET
DTSTART:20231029T010000
END:STANDARD
BEGIN:DAYLIGHT
TZOFFSETFROM:+0100
TZOFFSETTO:+0200
TZNAME:CEST
DTSTART:20240331T010000
END:DAYLIGHT
BEGIN:STANDARD
TZOFFSETFROM:+0200
TZOFFSETTO:+0100
TZNAME:CET
DTSTART:20241027T010000
END:STANDARD
END:VTIMEZONE
BEGIN:VEVENT
DTSTART;TZID=Europe/Paris:20231003T100000
DTEND;TZID=Europe/Paris:20231003T180000
DTSTAMP:20260425T182720
CREATED:20230831T130022Z
LAST-MODIFIED:20230921T085441Z
UID:47946-1696327200-1696356000@histeme.unicaen.fr
SUMMARY:Séminaire du Pôle Rural
DESCRIPTION:Séances 1 \n\n\n\nPhilippe Madeline et Anna Trespeuch \n\n\n\nSéance d’accueil pour les étudiants de Master et de doctorat : 10 h – 12 h \n\n\n\n \n\n\n\nOuverture du séminaire (tout public) : 14 h 30 – 18 h 00  \n\n\n\nBrice Évain\, Maître de conférences en histoire moderne à l’Université de Caen Normandie (HisTeMé\, UR 7455)\, « Révoltes paysannes et politiques populaires : retour sur le « sens politique » des mouvements populaires de la première modernité en France et en Angleterre« . \n\n\n\nRésumé. Dans un article en 2007\, René Souriac invitait les historiens à réévaluer le « sens politique » des paysans dans la France de la première modernité – la notion de « sens politique » s’articulant\, selon l’historien\, autour de quatre critères essentiels : la capacité d’analyse\, la définition d’objectifs pour faire face à une situation jugée intolérable\, la mise au point de tactiques et de stratégies élaborées\, enfin la faculté à les mettre à exécution. Cette communication entend rouvrir le dossier des soulèvements populaires (et en particulier paysans) de la première modernité (années 1540-1640) afin d’y explorer les politiques populaires\, à l’œuvre. Pour cela\, nous procéderons à une comparaison des situations respectives en France et en Angleterre. \n\n\n\nCaroline Moumaneix\, Maîtresse de conférences en géographie à l’inspe\, Eso- Caen Umr 6590\, Université de Caen Normandie\, « Des espaces protégés à l’éducation à la nature\, en passant par la renaturation : itinéraire et perspectives de recherche »   \n\n\n\nRésumé. Ma thèse en géographie politique (coopération\, conflits\, acteurs) a porté sur les parcs co-frontaliers entre les Etats-Unis et le Canada. Le premier parc national\, Yellowstone\, est né en 1872\, aux États-Unis et le Canada s’est inspiré puis éloigné de ce modèle tout en gardant des points communs : la wilderness\, la conquête et la maîtrise du territoire\, la création des premiers parcs\, emblèmes identitaires forts. Malgré cette proximité\, existe-t-il une réelle dynamique de coopération et des pratiques de gestion comparables ? Notre étude\, fondée sur des entretiens menés auprès des employés et des résidents des parcs et sur l’analyse de documents officiels\, a révélé des divergences entre ces parcs co-frontaliers. Une recherche post-doctorale portant sur le Parc Naturel Régional des Boucles de la Seine Normande m’a permis d’étudier le contexte de création du parc\, son évolution territoriale et certains usages afin de questionner la légitimité du parc. Dans le même temps\, une mission dans un Parc National du Gabon m’a permis de retrouver des problématiques proches de celles de ma thèse. Toutes ces expériences m’ont conduites à m’interroger sur les pratiques de  l’éducation à la nature dans les établissements scolaires à la fois normands mais aussi à l’étranger\, notamment en Finlande qui est aussi le support d’un projet européen (projet H2020) sur la renaturation des marais littoraux en Europe\, au sein d’une équipe pluridisciplinaire internationale.
URL:https://histeme.unicaen.fr/evenement/seminaire-du-pole-rural-8/
LOCATION:Caen · Campus 1 · Maison de la recherche en sciences humaines (MRSH) · Amphi\, Campus 1\, Maison de la recherche en sciences humaines (MRSH)\, 1 Esplanade de la Paix\, Caen\, 14000\, France
END:VEVENT
BEGIN:VEVENT
DTSTART;TZID=Europe/Paris:20231010T160000
DTEND;TZID=Europe/Paris:20231010T180000
DTSTAMP:20260425T182720
CREATED:20230925T084230Z
LAST-MODIFIED:20230925T084231Z
UID:48105-1696953600-1696960800@histeme.unicaen.fr
SUMMARY:Atelier jeunes recherches HisTeMé
DESCRIPTION:« Les Ateliers » sont un espace d’échange sur les recherches en histoire pour les doctorants\, étudiants et chercheurs.  \n\n\n\nSéance 1 : « Étudier la Normandie\, méthodes et délimitations » par Félix Brêteau\, Octave Moreau\, Hugo Fresnel et Justine Partard-Legrendre.
URL:https://histeme.unicaen.fr/evenement/atelier-jeunes-recherches-histeme/
LOCATION:Caen · Campus 1 · Maison de la recherche en sciences humaines (MRSH) · Salle des Actes (SH-027)\, Campus 1\, Maison de la recherche en sciences humaines (MRSH)\, 1 Esplanade de la Paix\, Caen\, 14000\, France
END:VEVENT
BEGIN:VEVENT
DTSTART;TZID=Europe/Paris:20231011T180000
DTEND;TZID=Europe/Paris:20231011T193000
DTSTAMP:20260425T182720
CREATED:20231004T152339Z
LAST-MODIFIED:20231004T153854Z
UID:48169-1697047200-1697052600@histeme.unicaen.fr
SUMMARY:Écrire l'histoire de l'avortement volontaire en France à l'époque moderne
DESCRIPTION:avec Laura Tatoueix\, chargée de recherche postdoctorale\, au sein du LabEx Hastec/Archives Nationales \n\n\n\nL’avortement en France à l’époque moderne est une pratique interdite et\, par conséquent\, peu visible dans les sources. Pourtant les contours de cette interdiction sont flous et il fait l’objet d’un travail nouveau de définition à l’époque moderne alors même que les pratiques évoluent et continuent d’échapper à la répression. L’ambition de cette recherche a donc été\, entre normes et pratiques\, d’analyser précisément les enjeux de la définition de l’avortement autant que de mettre au jour les modalités de cette pratique interdite.  \n\n\n\nCette conférence académique\, organisée par l’Association des professeurs d’histoire et de géographie de Basse-Normandie et le laboratoire HisTeMé\, sera suivie d’un temps d’échange avec le public\, en présence de l’association étudiante « Les mains violettes » pour la lutte contre les violences sexistes et sexuelles à l’université.  \n\n\n\n\nentrée libre et gratuite
URL:https://histeme.unicaen.fr/evenement/ecrire-lhistoire-de-lavortement-volontaire-en-france-a-lepoque-moderne/
CATEGORIES:Conférence
ATTACH;FMTTYPE=image/png:https://histeme.unicaen.fr/wp-content/uploads/sites/15/2023/10/conference-avortement.png
END:VEVENT
BEGIN:VEVENT
DTSTART;TZID=Europe/Paris:20231017T140000
DTEND;TZID=Europe/Paris:20231017T160000
DTSTAMP:20260425T182720
CREATED:20231010T115240Z
LAST-MODIFIED:20250217T145034Z
UID:48176-1697551200-1697558400@histeme.unicaen.fr
SUMMARY:Séminaire Villes et Sciences sociales
DESCRIPTION:Gabriel de Bruyn (Université de Caen – Laboratoire HisTeMé) : « De la trace archéologique au plan-relief de la Ville. La Rome de Paul Bigot\, entre ambition scientifique et utopie d’architecte ».  \n\n\n\nResp. Caroline Blonce \n\n\n\nPlus d’informations
URL:https://histeme.unicaen.fr/evenement/seminaire-villes-et-sciences-sociales-8/
LOCATION:Caen · Campus 1 · Bâtiment A · Amphi Mathématiques\, Bâtiment A\, Campus 1\, Esplanade de la Paix\, Caen\, 14000\, France
CATEGORIES:Séminaire
END:VEVENT
BEGIN:VEVENT
DTSTART;TZID=Europe/Paris:20231018T140000
DTEND;TZID=Europe/Paris:20231018T170000
DTSTAMP:20260425T182720
CREATED:20230831T122845Z
LAST-MODIFIED:20230913T102947Z
UID:47943-1697637600-1697648400@histeme.unicaen.fr
SUMMARY:Séminaire Traces de guerre
DESCRIPTION:14h-14h30 : Des victimes de la répression nazie méconnue : les arrêtés en Allemagne\, par Arnaud Boulligny\, historien à la Fondation pour la mémoire de la déportation et Sébastien Beuchet\, docteur en histoire\, professeur agrégé. \n\n\n\n14h45- 15h15 : À l’ombre de l’histoire des autres\, une historienne à la recherche de ses grands-parents par Camille Lefebvre\, directrice de recherches au CNRS. \n\n\n\n15h30- 16h00 : La shoah en France\, changement d’échelle\, l’avancée de la recherche sur la persécution raciale en France par Alexandre Doulut\, docteur en histoire. \n\n\n\nResponsables: Gaël Eismann & François Rouquet
URL:https://histeme.unicaen.fr/evenement/seminaire-traces-de-guerre-6/
LOCATION:Caen · Mémorial de Caen\, Mémorial de Caen\, Esplanade Général Eisenhower\, Caen\, 14000\, France
END:VEVENT
BEGIN:VEVENT
DTSTART;TZID=Europe/Paris:20231019T100000
DTEND;TZID=Europe/Paris:20231019T130000
DTSTAMP:20260425T182720
CREATED:20230920T081859Z
LAST-MODIFIED:20250217T144904Z
UID:48077-1697709600-1697720400@histeme.unicaen.fr
SUMMARY:Séminaire Penser le maritime
DESCRIPTION:Jeunes chercheurs.ses en histoire contemporaine \n\n\n\nJEAN-FRANÇOIS FIGEAC (docteur en histoire\, Sorbonne Université) : Frontières maritimes au XIXe siècle ou culture de la mer (histoires et mythes portuaires au XIXe siècle). \n\n\n\nADÉLAÏDE MARINE-GOUGEON (doctorante en histoire\, Sorbonne université) : Des familles transocéaniques : les enjeux sociaux de l’espace maritime (post) colonial des blancs créoles de la Martinique au XIXe siècle. \n\n\n\nCoordination : Carole Christen\, Jérôme Jambu\, Thomas Vaisset (Umr Idées) ; Éric Saunier (HisTeMé) \n\n\n\nPlus d’informations
URL:https://histeme.unicaen.fr/evenement/seminaire-penser-le-maritime-6/
LOCATION:Le Havre · Université Le Havre Normandie · PRSH · Salle Madeleine de Scudéry\, Pôle de Recherche en Sciences Humaines\, Faculté des Affaires Internationales\, 25 Rue Philippe Lebon\, Le Havre\, 76600\, France
END:VEVENT
BEGIN:VEVENT
DTSTART;TZID=Europe/Paris:20231019T110000
DTEND;TZID=Europe/Paris:20231019T190000
DTSTAMP:20260425T182720
CREATED:20230831T112145Z
LAST-MODIFIED:20230914T135226Z
UID:47921-1697713200-1697742000@histeme.unicaen.fr
SUMMARY:Journée Jeunes chercheur-es\, nouvelles recherches autour de la Seconde Guerre mondiale
DESCRIPTION:Programme: \n\n\n\n11h : Accueil par Kléber Arhoul et François Rouquet. \n\n\n\n11h15 : Introduction par Guillaume Yverneau (doctorant Université Caen Normandie\, sld F. Rouquet\, PU – Université de Caen\, laboratoire HisTeMé et Hanna Diamond\, Professor – Cardiff University\, School of Modern Languages) \n\n\n\nSéance 1 : Allégeances et réactions en temps de guerre \n\n\n\nModératrice Françoise Passera (IE\, Université Caen Normandie) \n\n\n\n11h 30 : Jeremy Walling (doctorant Université de Montréal)\, « Le milieu universitaire québécois et la Deuxième Guerre mondiale ». \n\n\n\n12h :  Florence Postoniak (doctorante Université de Rouen Normandie)\, « Les cadeaux au maréchal Pétain en France sous l’Occupation : étudier la provenance des dons ».  \n\n\n\n12h30-13h Débat \n\n\n\nSéance 2 : Gestion des populations en sorties de guerre \n\n\n\nModératrice : Gaël Eismann (MCF histoire contemporaine\, Université Caen Normandie) \n\n\n\n14h30 : Julia Maspero (doctorante EHESS\, sld Alain Blum)\, « La politique française de prise en charge des personnes déplacées à la sortie de la guerre ». \n\n\n\n15h : Félix Streicher (doctorant\, Maastricht University)\, « Chacun son tour » ? Revanchisme et renversement des rôles dans la zone d’occupation luxembourgeoise en Allemagne d’après-guerre (1945-1946). \n\n\n\n15h30 : Amine Laggoune (doctorante EHESS\, sld Alain Blum et Sophie Coeuré)\, sujet de thèse : « Retour au pays forcé ou rêvé ? Le rapatriement des Soviétiques depuis la France entre sortie de guerre et balbutiements de la guerre froide (1944-1947). \n\n\n\n16h-16h30 débat \n\n\n\nPause : 15 mn \n\n\n\nSéance 3 : Génocide : mise en perspective \n\n\n\nModérateur : François Rouquet (PU en histoire contemporaine\, Université Caen Normandie) \n\n\n\n16h45 :  Pierre-Emmanuel Lebonnois (Doctorant Université de Nantes\, sld Isabelle Pimouguet-Pedaros)\, « Dans l’ombre de la guerre totale\, le « crime sans nom “. \n\n\n\n17h15 : Amélie Faucheux (Doctorante EHESS\, sld Gloria Origgi)\, « Massacres au cœur des voisinages : spécificités du génocide des Tutsi Rwandais de 1994 et parallèles avec le génocide des Juifs d’Europe”. \n\n\n\n17h45 : Juliette Bour (Doctorante EHESS\, sld Stéphane Audouin-Rouzeau). Titre de la communication en cours. \n\n\n\n17h45-18h15 : Débat \n\n\n\n18h15 : Conclusion : Jean-Baptiste Bonnard (MCF Histoire antique\, Université de Caen Normandie\, ANR Parabaino)
URL:https://histeme.unicaen.fr/evenement/journee-jeunes-chercheur-es-nouvelles-recherches-autour-de-la-seconde-guerre-mondiale/
LOCATION:Caen · Mémorial de Caen\, Mémorial de Caen\, Esplanade Général Eisenhower\, Caen\, 14000\, France
END:VEVENT
BEGIN:VEVENT
DTSTART;TZID=Europe/Paris:20231019T140000
DTEND;TZID=Europe/Paris:20231020T160000
DTSTAMP:20260425T182720
CREATED:20230321T133255Z
LAST-MODIFIED:20231011T064604Z
UID:32857-1697724000-1697817600@histeme.unicaen.fr
SUMMARY:Colloque "Humanités numériques\, quantification et histoire maritime"
DESCRIPTION:  \nPROGRAMME: \nJeudi 19 octobre 2023 \n14h00 : accueil des participants et du public \n14h30 : Introduction scientifique \n15h00 : L’aventure Cimarconet\, une histoire d’équipage (André Zysberg\, HISTEMÉ (UR 7455)\, Université de Caen-Normandie) \nSession 1 : Humanités numériques et quantification : quel(s) objet(s) en histoire maritime ? \n15h30 : GEMER\, projet ANR de constitution d’une base de données relationnelle portant sur les marins et leurs familles au XVIIIe siècle (Aurélie Hess et Philippe Hrodej\, TEMOS (UMR 9016)\, Université de Bretagne-Sud) \n16h00 : De l’atelier numérique d’étudiants en master au programme ANR : les ouvriers de la construction navale en France\, XVIIIe-XIXe siècle (David Plouviez\, CRHIA (UR 1163)\, Université de Nantes) \n16h30 : Le projet MARCOMO : une base de données pour retracer l’histoire maritime marchande à l’époque contemporaine (Thomas Vaisset et Erwan Jacomino\, IDEES (UMR 6266)\, Université du Havre) \n17h00 : Extraire l’information structurée de documents numérisés : aller au-delà de la reconnaissance d’écriture (Pierrick Tranouez – LITIS\, Rouen Normandie université) \n17h30 : Discussion \n18h00 : Fin de la session 1 \nVendredi 20 octobre 2023 \n8h30 : accueil des participants et du public \nSession 2 : Des sources à la constitution des corpus : contraintes documentaires et pérennité des données produites \n9h00 : Aux sources de l’histoire quantitative : collecte et sélection des archives (Magali Duchesne-Lachèvre\, Service historique de la Défense\, Cherbourg) \n9h30 : La mise en place progressive de la méthodologie de Cirmarconet (Mirelle Sanson\, Amis du SHD de Cherbourg\, ASHDC) \n10h00 : Discussion \n10h30 : La mise en place progressive de la méthodologie de CIMARCONET (Jean Vincent et Mireille Sanson\, Amis du Service Historique de la Défense de Cherbourg\, ASHDC) \nSession 3 : Exploitation et traitement des données \n10h30 : Sur la pluralité des voies d’exploitation d’une base de données : les 6700 membres des équipages négriers havrais (1749-1792) (Éric Saunier\, HISTEMÉ (UR 7455)\, Université du Havre) \n11h00 : Intérêt et complémentarité des bases de données : de la reconstitution des familles à l’histoire sociale des gens de mer (Annick Perrot\, Université de Caen-Normandie) \n11h30 : Des bases pour quoi faire ? Visualiser les données et leur incertitude et donner à voir les résultats de la recherche. Retour d’expérience sur l’ANR PORTIC (Sylvia Marzagalli\, CMMC (UPR 1193)\, Université Côte d’Azur) \n12h00 : Discussion  \nSession 4 : Formation aux humanités numériques et science ouverte \n14h00 : Culture et apprentissage des outils numériques à l’université en licence d’histoire (Wilfrid Cariou\, Université de Nantes) \n14h30 : Former des spécialistes en humanités numériques\, sciences auxiliaires de l’histoire : les Master de l’École des Chartes (Florian Cafiero\, École nationale des Chartes) \n15h00 : Du quantitatif au « qualitatif » : l’exemple de Cirmaconet (Jean Vincent) \n15h30 : Base de données et Science participative (Diego Jark\, Vice-président Culture\, sciences et société de l’Université de la Rochelle\, CRHIA – UR 1163\, Université de Nantes. \n16h00 : Discussion et conclusion des journées \n16h30 : Fin des journées d’études \n 
URL:https://histeme.unicaen.fr/evenement/colloque-les-humanites-numeriques-des-cartes-et-des-hommes/
LOCATION:Cherbourg-en-Cotentin · IUT Grand Ouest Normandie\, Institut universitaire de technologie Cherbourg-Manche\, 60 Rue Max Pol Fouchet\, Cherbourg-en-Cotentin\, 50130\, France
CATEGORIES:Congrès - Colloque
END:VEVENT
BEGIN:VEVENT
DTSTART;TZID=Europe/Paris:20231020T140000
DTEND;TZID=Europe/Paris:20231020T180000
DTSTAMP:20260425T182720
CREATED:20230831T120257Z
LAST-MODIFIED:20230914T070841Z
UID:47925-1697810400-1697824800@histeme.unicaen.fr
SUMMARY:Séminaire de l'institut d’histoire antique
DESCRIPTION:Gouverner un empire (284-410 ap. J.-C.)  \n\n\n\nVincent Puech (MCF HDR Univ. Paris Saclay) : « Les élites et le personnel de gouvernement au IVe siècle » \n\n\n\nOlivier Hück (MCF Univ. Strasbourg) : « Gouverner par le droit : codes et codifications » \n\n\n\nResp. S. Destephen
URL:https://histeme.unicaen.fr/evenement/seminaire-de-linstitut-dhistoire-antique-2/
LOCATION:Caen · Campus 1 · Bâtiment N · Amphi Guillaume-François Rouelle\, Esplanade de la Paix\, Caen\, 14000\, France
END:VEVENT
BEGIN:VEVENT
DTSTART;TZID=Europe/Paris:20231020T140000
DTEND;TZID=Europe/Paris:20231020T170000
DTSTAMP:20260425T182720
CREATED:20230911T135419Z
LAST-MODIFIED:20230926T132226Z
UID:47989-1697810400-1697821200@histeme.unicaen.fr
SUMMARY:Séminaire d'histoire culturelle
DESCRIPTION:Responsable : Stéphanie Loncle \n\n\n\nSéance intitulée « Écrire et archiver les spectacles sous l’Ancien Régime : une action politique » avec la participation de : \n\n\n\nMarine ROUSSILLON\, MCF Littérature française du 17e siècle à l’Université d’Artois\, Centre de recherches Textes et cultures (UR4028): « Raconter les fêtes de Louis XIV : entre politique de la gloire et marché littéraire » \n\n\n\nPauline LEMAIGRE GAFFIER\, MCF Histoire moderne\, UVSQ/Université Paris-Saclay: «  Donner corps à la musique : les échelles de l’institutionnalisation des spectacles (France\, XVIIIe siècle) »
URL:https://histeme.unicaen.fr/evenement/seminaire-dhistoire-culturelle/
LOCATION:Saint-Germain-la-Blanche-Herbe · IMEC\, IMEC\, L'Abbaye D'Ardenne\, 3 Rue Youf du Marché\, Saint-Germain-la-Blanche-Herbe\, 14280\, France
CATEGORIES:Séminaire
END:VEVENT
BEGIN:VEVENT
DTSTART;TZID=Europe/Paris:20231020T150000
DTEND;TZID=Europe/Paris:20231020T180000
DTSTAMP:20260425T182720
CREATED:20230913T133500Z
LAST-MODIFIED:20250217T144759Z
UID:48034-1697814000-1697824800@histeme.unicaen.fr
SUMMARY:Séminaire le Temps de l'Empire Ibérique
DESCRIPTION:Massimo Giannini (Università degli Studi di Teramo)\, Restablecer la concordia o guardar los intereses? La cuestión de laalternativa en las órdenes religiosas en América (siglo XVII) \n\n\n\nFiona Karcz (Sorbonne Université-ENS Lyon)\, “Una mala semilla entre los nuestros”: concordias y discordias entre órdenes religiosas\, coronas europeas y actores locales en la misión de Japón (1579-1598) \n\n\n\nResponsables : Valeria Allaire\, Loann Berens\, Ariane Boltanski\, Marie-Lucie Copete\, Juan Carlos D’Amico\, Manuela Águeda García Garrido\, Alexanda Merle\, AlejandraTestino \n\n\n\nPlus d’informations
URL:https://histeme.unicaen.fr/evenement/seminaire-le-temps-de-lempire-iberique/
LOCATION:Caen · Campus 1 · Maison de la recherche en sciences humaines (MRSH) · Amphi\, Campus 1\, Maison de la recherche en sciences humaines (MRSH)\, 1 Esplanade de la Paix\, Caen\, 14000\, France
END:VEVENT
END:VCALENDAR