BEGIN:VCALENDAR
VERSION:2.0
PRODID:-//Histemé - Histoire Territoires Mémoires - ECPv6.15.18//NONSGML v1.0//EN
CALSCALE:GREGORIAN
METHOD:PUBLISH
X-ORIGINAL-URL:https://histeme.unicaen.fr
X-WR-CALDESC:Évènements pour Histemé - Histoire Territoires Mémoires
REFRESH-INTERVAL;VALUE=DURATION:PT1H
X-Robots-Tag:noindex
X-PUBLISHED-TTL:PT1H
BEGIN:VTIMEZONE
TZID:Europe/Paris
BEGIN:DAYLIGHT
TZOFFSETFROM:+0100
TZOFFSETTO:+0200
TZNAME:CEST
DTSTART:20220327T010000
END:DAYLIGHT
BEGIN:STANDARD
TZOFFSETFROM:+0200
TZOFFSETTO:+0100
TZNAME:CET
DTSTART:20221030T010000
END:STANDARD
BEGIN:DAYLIGHT
TZOFFSETFROM:+0100
TZOFFSETTO:+0200
TZNAME:CEST
DTSTART:20230326T010000
END:DAYLIGHT
BEGIN:STANDARD
TZOFFSETFROM:+0200
TZOFFSETTO:+0100
TZNAME:CET
DTSTART:20231029T010000
END:STANDARD
BEGIN:DAYLIGHT
TZOFFSETFROM:+0100
TZOFFSETTO:+0200
TZNAME:CEST
DTSTART:20240331T010000
END:DAYLIGHT
BEGIN:STANDARD
TZOFFSETFROM:+0200
TZOFFSETTO:+0100
TZNAME:CET
DTSTART:20241027T010000
END:STANDARD
END:VTIMEZONE
BEGIN:VEVENT
DTSTART;TZID=Europe/Paris:20231201T140000
DTEND;TZID=Europe/Paris:20231201T180000
DTSTAMP:20260422T020200
CREATED:20230831T121633Z
LAST-MODIFIED:20230914T072204Z
UID:47931-1701439200-1701453600@histeme.unicaen.fr
SUMMARY:Séminaire de l'institut d'histoire antique
DESCRIPTION:La vie des musées – Resp. T.Haziza et JB Bonnard \n\n\n\nAnnie Pierard-Verbanck (Conservatrice honoraire du département des antiquités classiques au Musée royal de Mariemont\, Belgique) : « Montrer les Antiques. Pour quoi ? Pour qui ? » \n\n\n\nEliane Paysant (responsable scientifique Muséum Emmanuel Liais) : « Voyage dans les collections du muséum Emmanuel Liais de Cherbourg »
URL:https://histeme.unicaen.fr/evenement/seminaire-de-linstitut-dhistoire-antique-3/
END:VEVENT
BEGIN:VEVENT
DTSTART;TZID=Europe/Paris:20231212T140000
DTEND;TZID=Europe/Paris:20231212T170000
DTSTAMP:20260422T020200
CREATED:20231010T115724Z
LAST-MODIFIED:20250217T145034Z
UID:48186-1702389600-1702400400@histeme.unicaen.fr
SUMMARY:Séminaire Villes et Sciences sociales
DESCRIPTION:Grégory Schutz et Vincent Hincker (Conseil départemental du Calvados\, service d’archéologie) : « L’archéologie préventive et le rapport aux traces du passé : les fouilles de la place de la République à Caen » \n\n\n\nElisabeth Rémy (INRA\, AgroParisTech) et Marine Canaves (Lyon 2) : « Les sols urbains sont-ils cultivables ? » \n\n\n\nResp. Caroline Blonce \n\n\n\nPlus d’informations
URL:https://histeme.unicaen.fr/evenement/seminaire-villes-et-sciences-sociales-10/
LOCATION:Caen · Campus 1 · Bâtiment B · Salle B1-136\, Bâtiment B\, Esplanade de la Paix\, Caen\, 14000\, France
CATEGORIES:Séminaire
END:VEVENT
BEGIN:VEVENT
DTSTART;TZID=Europe/Paris:20231212T160000
DTEND;TZID=Europe/Paris:20231212T180000
DTSTAMP:20260422T020200
CREATED:20230925T084723Z
LAST-MODIFIED:20231211T083350Z
UID:48110-1702396800-1702404000@histeme.unicaen.fr
SUMMARY:ANNULÉ - Atelier jeunes recherches HisTeMé
DESCRIPTION:« Les Ateliers » sont un espace d’échange sur les recherches en histoire pour les doctorants\, étudiants et chercheurs. \n\n\n\nSéance 3 : « Quand les sources résistent » par Olivier Garcia
URL:https://histeme.unicaen.fr/evenement/atelier-jeunes-recherches-histeme-3/
LOCATION:Caen · Campus 1 · Maison de la recherche en sciences humaines (MRSH) · Salle des Actes (SH-027)\, Campus 1\, Maison de la recherche en sciences humaines (MRSH)\, 1 Esplanade de la Paix\, Caen\, 14000\, France
END:VEVENT
BEGIN:VEVENT
DTSTART;TZID=Europe/Paris:20231213T100000
DTEND;TZID=Europe/Paris:20231213T130000
DTSTAMP:20260422T020200
CREATED:20230905T143308Z
LAST-MODIFIED:20231004T131905Z
UID:47971-1702461600-1702472400@histeme.unicaen.fr
SUMMARY:Séminaire La Fabrique du Politique
DESCRIPTION:Eva GUILLOREL\, (Maître de conférences\, Université rennes 2\, teMPora ) : » La plainte et la complainte dans la culture populaire XVIIe siècle ».Maxime KACI (Maître de conférences\, Université de BoUrgogne-francHe-coMté\, centre LUcien feBvre):« Les pétitions durant la Révolution française ou les maillons d’une fragile chaîne de communication politique » \n\n\n\nPlus d’informations
URL:https://histeme.unicaen.fr/evenement/seminaire-la-fabrique-du-politique-9/
LOCATION:Caen · Campus 1 · Maison de la recherche en sciences humaines (MRSH) · Salle des Thèses\, Campus 1\, Maison de la recherche en sciences humaines (MRSH)\, 1 Esplanade de la Paix\, Caen\, 14000\, France
END:VEVENT
BEGIN:VEVENT
DTSTART;TZID=Europe/Paris:20231213T163000
DTEND;TZID=Europe/Paris:20231213T190000
DTSTAMP:20260422T020200
CREATED:20231010T121535Z
LAST-MODIFIED:20231010T121635Z
UID:48206-1702485000-1702494000@histeme.unicaen.fr
SUMMARY:Assises du laboratoire HisTeMé
DESCRIPTION:Informations à venir
URL:https://histeme.unicaen.fr/evenement/assises-du-laboratoire-histeme/
LOCATION:À venir
END:VEVENT
BEGIN:VEVENT
DTSTART;TZID=Europe/Paris:20231214T100000
DTEND;TZID=Europe/Paris:20231214T130000
DTSTAMP:20260422T020200
CREATED:20230920T082715Z
LAST-MODIFIED:20250217T144904Z
UID:48083-1702548000-1702558800@histeme.unicaen.fr
SUMMARY:Séminaire Penser le maritime
DESCRIPTION:Archéologie sous-marineCÉCILE SAUVAGE (conservatrice du patrimoine\, responsable littoraux Normandie\, Hauts de France et Saint-Pierre-et-Miquelon\, DRASSM) : « Archéologie des conflits : l’apport des dernières recherches sous-marines menées par le Drassm en Manche et mer du Nord ».MARINE JAOUEN (technicienne de recherche\, DRASSM\, doctorante) : « Le grand cabotage en Méditerranée\, XVIe-XVIIIe siècle : témoignages archéologiques ». \n\n\n\nCoordination : Carole Christen\, Jérôme Jambu\, Thomas Vaisset (Umr Idées) ; Éric Saunier (HisTeMé) \n\n\n\nPlus d’informations
URL:https://histeme.unicaen.fr/evenement/seminaire-penser-le-maritime-8/
LOCATION:Le Havre · Université Le Havre Normandie · PRSH · Salle Madeleine de Scudéry\, Pôle de Recherche en Sciences Humaines\, Faculté des Affaires Internationales\, 25 Rue Philippe Lebon\, Le Havre\, 76600\, France
END:VEVENT
BEGIN:VEVENT
DTSTART;TZID=Europe/Paris:20231215T140000
DTEND;TZID=Europe/Paris:20231215T180000
DTSTAMP:20260422T020200
CREATED:20230831T122017Z
LAST-MODIFIED:20230914T071926Z
UID:47936-1702648800-1702663200@histeme.unicaen.fr
SUMMARY:Séminaire de l’institut d’histoire antique
DESCRIPTION:ATTENTION : date à confirmer \n\n\n\nLa Syrie antique: \n\n\n\nCatherine Apicella (MCF Univ. Picardie) sur « La Syrie hellénistique» \n\n\n\nJulien Aliquot (CNRS) sur « L’épigraphie de la Syrie romaine » \n\n\n\nResp. G. de Bruyn et G. Gorre
URL:https://histeme.unicaen.fr/evenement/seminaire-de-linstitut-dhistoire-antique-4/
END:VEVENT
BEGIN:VEVENT
DTSTART;TZID=Europe/Paris:20231215T150000
DTEND;TZID=Europe/Paris:20231215T180000
DTSTAMP:20260422T020200
CREATED:20230913T134037Z
LAST-MODIFIED:20250217T144759Z
UID:48039-1702652400-1702663200@histeme.unicaen.fr
SUMMARY:Séminaire le Temps de l'Empire Ibérique
DESCRIPTION:Salle du Belvédère (bâtiment Droit) 15h-18h \n\n\n\nPaolo Broggio (Università Roma Tre)\, Culture juridique\, pratiques judiciaires et concorde sociale dans la Sicile de la fin du XVIe siècle : le “Foro christiano” de l’avocat palermitain Rocco Gambacorta. \n\n\n\nKassandre Aslot (docteure Sorbonne nouvelle)\, La mise en récit du retour à l’ordre. La concorde après la révolte de 1591 à Saragosse dans l’historiographie aragonaise et étrangère \n\n\n\nResponsables : Valeria Allaire\, Loann Berens\, Ariane Boltanski\, Marie-Lucie Copete\, Juan Carlos D’Amico\, Manuela Águeda García Garrido\, Alexanda Merle\, AlejandraTestino \n\n\n\nPlus d’informations
URL:https://histeme.unicaen.fr/evenement/seminaire-le-temps-de-lempire-iberique-3/
END:VEVENT
END:VCALENDAR