BEGIN:VCALENDAR
VERSION:2.0
PRODID:-//Histemé - Histoire Territoires Mémoires - ECPv6.15.18//NONSGML v1.0//EN
CALSCALE:GREGORIAN
METHOD:PUBLISH
X-WR-CALNAME:Histemé - Histoire Territoires Mémoires
X-ORIGINAL-URL:https://histeme.unicaen.fr
X-WR-CALDESC:Évènements pour Histemé - Histoire Territoires Mémoires
REFRESH-INTERVAL;VALUE=DURATION:PT1H
X-Robots-Tag:noindex
X-PUBLISHED-TTL:PT1H
BEGIN:VTIMEZONE
TZID:Europe/Paris
BEGIN:DAYLIGHT
TZOFFSETFROM:+0100
TZOFFSETTO:+0200
TZNAME:CEST
DTSTART:20230326T010000
END:DAYLIGHT
BEGIN:STANDARD
TZOFFSETFROM:+0200
TZOFFSETTO:+0100
TZNAME:CET
DTSTART:20231029T010000
END:STANDARD
BEGIN:DAYLIGHT
TZOFFSETFROM:+0100
TZOFFSETTO:+0200
TZNAME:CEST
DTSTART:20240331T010000
END:DAYLIGHT
BEGIN:STANDARD
TZOFFSETFROM:+0200
TZOFFSETTO:+0100
TZNAME:CET
DTSTART:20241027T010000
END:STANDARD
BEGIN:DAYLIGHT
TZOFFSETFROM:+0100
TZOFFSETTO:+0200
TZNAME:CEST
DTSTART:20250330T010000
END:DAYLIGHT
BEGIN:STANDARD
TZOFFSETFROM:+0200
TZOFFSETTO:+0100
TZNAME:CET
DTSTART:20251026T010000
END:STANDARD
END:VTIMEZONE
BEGIN:VEVENT
DTSTART;TZID=Europe/Paris:20240111T100000
DTEND;TZID=Europe/Paris:20240111T130000
DTSTAMP:20260422T010433
CREATED:20230920T082950Z
LAST-MODIFIED:20250217T144904Z
UID:48087-1704967200-1704978000@histeme.unicaen.fr
SUMMARY:Séminaire Penser le maritime
DESCRIPTION:Traverser les mers et les océans 2. Naviguer et commercer au temps des Compagnies \n\n\n\nGUILLAUME LELIÈVRE (ingénieur d’études\, Pôle d’Etudes Maritimes\, MRSH Caen Normandie université) : « La première Compagnie des Indes orientales (1604) » \n\n\n\nMATTHIEU PROVENÇALLE (doctorant en histoire à Rouen Normandie Université\, GHRIS) : « Entre association de marchands et compagnie commerciale privilégiée : fonctionnement et stratégies commerciales des compagnies normandes de Sénégambie (1633-1664) » \n\n\n\nCoordination : Carole Christen\, Jérôme Jambu\, Thomas Vaisset (Umr Idées) ; Éric Saunier (HisTeMé) \n\n\n\nPlus d’informations
URL:https://histeme.unicaen.fr/evenement/seminaire-penser-le-maritime-9/
LOCATION:Le Havre · Université Le Havre Normandie · PRSH · Salle Madeleine de Scudéry\, Pôle de Recherche en Sciences Humaines\, Faculté des Affaires Internationales\, 25 Rue Philippe Lebon\, Le Havre\, 76600\, France
END:VEVENT
BEGIN:VEVENT
DTSTART;TZID=Europe/Paris:20240116T100000
DTEND;TZID=Europe/Paris:20240116T180000
DTSTAMP:20260422T010433
CREATED:20230905T130421Z
LAST-MODIFIED:20230905T130423Z
UID:47954-1705399200-1705428000@histeme.unicaen.fr
SUMMARY:Séminaire du Pôle rural
DESCRIPTION:« Atelier jeunes chercheurs 1 » \n\n\n\nSéances consacrées à l’état d’avancement des travaux des étudiants du Pôle rural \n\n\n\n10h30-12h30 : Présentation-débat des sujets de recherche (M1 et M2 Histoire) \n\n\n\n14h-16h30 : Présentation-débat des sujets de recherche (M1 et M2 Géographie)
URL:https://histeme.unicaen.fr/evenement/seminaire-du-pole-rural-10/
LOCATION:Caen · Campus 1 · Maison de la recherche en sciences humaines (MRSH) · Amphi\, Campus 1\, Maison de la recherche en sciences humaines (MRSH)\, 1 Esplanade de la Paix\, Caen\, 14000\, France
END:VEVENT
BEGIN:VEVENT
DTSTART;TZID=Europe/Paris:20240116T160000
DTEND;TZID=Europe/Paris:20240116T180000
DTSTAMP:20260422T010433
CREATED:20230925T084917Z
LAST-MODIFIED:20240115T125020Z
UID:48112-1705420800-1705428000@histeme.unicaen.fr
SUMMARY:ANNULÉ - Atelier jeunes recherches HisTeMé
DESCRIPTION:« Les Ateliers » sont un espace d’échange sur les recherches en histoire pour les doctorants\, étudiants et chercheurs. \n\n\n\nSéance 4 : « Étudier la guerre » par Camille Cilona et Guillaume Yverneau
URL:https://histeme.unicaen.fr/evenement/atelier-jeunes-recherches-histeme-4/
LOCATION:Caen · Campus 1 · Maison de la recherche en sciences humaines (MRSH) · Salle des Actes (SH-027)\, Campus 1\, Maison de la recherche en sciences humaines (MRSH)\, 1 Esplanade de la Paix\, Caen\, 14000\, France
END:VEVENT
BEGIN:VEVENT
DTSTART;TZID=Europe/Paris:20240119T150000
DTEND;TZID=Europe/Paris:20240119T180000
DTSTAMP:20260422T010433
CREATED:20230913T134232Z
LAST-MODIFIED:20250217T142535Z
UID:48041-1705676400-1705687200@histeme.unicaen.fr
SUMMARY:Séminaire le Temps de l'Empire Ibérique
DESCRIPTION:Silvia Z. Mitchell (Université Rey Juan Carlos de Madrid)\, Las concordias de la Monarquía Hispánica durante la regencia de Mariana de Austria. Proteger\, estabilizar y defender el patrimonio dinástico de Carlos II \n\n\n\nFrancisco José García Pérez (Universidad de las Islas Baleares)\, La tregua de Ratisbona y el camino hacia la paz: las negociaciones de María Luisa de Orleans y los embajadores franceses en la Corte de Madrid \n\n\n\nResponsables : Valeria Allaire\, Loann Berens\, Ariane Boltanski\, Marie-Lucie Copete\, Juan Carlos D’Amico\, Manuela Águeda García Garrido\, Alexanda Merle\, AlejandraTestino \n\n\n\nPlus d’informations
URL:https://histeme.unicaen.fr/evenement/seminaire-le-temps-de-lempire-iberique-4/
LOCATION:Caen · Campus 1 · Maison de la recherche en sciences humaines (MRSH) · Amphi\, Campus 1\, Maison de la recherche en sciences humaines (MRSH)\, 1 Esplanade de la Paix\, Caen\, 14000\, France
END:VEVENT
BEGIN:VEVENT
DTSTART;TZID=Europe/Paris:20240130T080000
DTEND;TZID=Europe/Paris:20240130T170000
DTSTAMP:20260422T010433
CREATED:20240111T102312Z
LAST-MODIFIED:20250217T145034Z
UID:48258-1706601600-1706634000@histeme.unicaen.fr
SUMMARY:Séminaire Villes et Sciences sociales
DESCRIPTION:« Villes a voix hautes » – Informations à venir \n\n\n\nResp. Caroline Blonce \n\n\n\nPlus d’informations
URL:https://histeme.unicaen.fr/evenement/seminaire-villes-et-sciences-sociales-15/
CATEGORIES:Séminaire
END:VEVENT
BEGIN:VEVENT
DTSTART;TZID=Europe/Paris:20240131T140000
DTEND;TZID=Europe/Paris:20240131T170000
DTSTAMP:20260422T010433
CREATED:20230913T103511Z
LAST-MODIFIED:20230913T103512Z
UID:48012-1706709600-1706720400@histeme.unicaen.fr
SUMMARY:Séminaire Traces de guerre
DESCRIPTION:Quand les tribunaux militaires jugent la sexualité des soldats (Italie 1940-1943) par Fabrice Virgili\, directeur de recherche CNRS – IRICE (Paris) \n\n\n\nPlus d’informations \n\n\n\nResponsables : Gaël Eismann & François Rouquet
URL:https://histeme.unicaen.fr/evenement/seminaire-traces-de-guerre-9/
LOCATION:Caen · Mémorial de Caen\, Mémorial de Caen\, Esplanade Général Eisenhower\, Caen\, 14000\, France
END:VEVENT
END:VCALENDAR