BEGIN:VCALENDAR
VERSION:2.0
PRODID:-//Histemé - Histoire Territoires Mémoires - ECPv6.15.18//NONSGML v1.0//EN
CALSCALE:GREGORIAN
METHOD:PUBLISH
X-WR-CALNAME:Histemé - Histoire Territoires Mémoires
X-ORIGINAL-URL:https://histeme.unicaen.fr
X-WR-CALDESC:Évènements pour Histemé - Histoire Territoires Mémoires
REFRESH-INTERVAL;VALUE=DURATION:PT1H
X-Robots-Tag:noindex
X-PUBLISHED-TTL:PT1H
BEGIN:VTIMEZONE
TZID:Europe/Paris
BEGIN:DAYLIGHT
TZOFFSETFROM:+0100
TZOFFSETTO:+0200
TZNAME:CEST
DTSTART:20230326T010000
END:DAYLIGHT
BEGIN:STANDARD
TZOFFSETFROM:+0200
TZOFFSETTO:+0100
TZNAME:CET
DTSTART:20231029T010000
END:STANDARD
BEGIN:DAYLIGHT
TZOFFSETFROM:+0100
TZOFFSETTO:+0200
TZNAME:CEST
DTSTART:20240331T010000
END:DAYLIGHT
BEGIN:STANDARD
TZOFFSETFROM:+0200
TZOFFSETTO:+0100
TZNAME:CET
DTSTART:20241027T010000
END:STANDARD
BEGIN:DAYLIGHT
TZOFFSETFROM:+0100
TZOFFSETTO:+0200
TZNAME:CEST
DTSTART:20250330T010000
END:DAYLIGHT
BEGIN:STANDARD
TZOFFSETFROM:+0200
TZOFFSETTO:+0100
TZNAME:CET
DTSTART:20251026T010000
END:STANDARD
END:VTIMEZONE
BEGIN:VEVENT
DTSTART;TZID=Europe/Paris:20241001T100000
DTEND;TZID=Europe/Paris:20241001T180000
DTSTAMP:20260422T010419
CREATED:20240910T101306Z
LAST-MODIFIED:20250217T142514Z
UID:48497-1727776800-1727805600@histeme.unicaen.fr
SUMMARY:Séminaire "Société\, environnement et espaces ruraux"
DESCRIPTION:Séance d’accueil étudiants de master/doctorat : 10h – 12h \n\n\n\nOuverture du séminaire (tout public) : 14h30-18h00  avec \n\n\n\nThéo MARTIN\, docteur en géographie\, post-doctorant INRAE Montpellier (UMR innovation / UMR territoire / CCRI Université de Gloucestershire) : « Travail\, robots et agriculture : entre promesse de révolution et renouvellement du productivisme » \n\n\n\nCécile LAGANE\, Maîtresse de conférences en archéologie médiévale\, UMR 6273 CRAHAM\, université Caen Normandie : « Les meubles dans l’espace rural au Moyen Âge » \n\n\n\nSous la direction de Philippe MADELINE\, Anna TRESPEUCH\, JAN SYNOWIECKI\, Elisabeth RIDEL-GRANGER \n\n\n\nPlus d’informations
URL:https://histeme.unicaen.fr/evenement/seminaire-du-pole-rural-societe-environnement-et-espaces-ruraux/
LOCATION:Caen · Campus 1 · Maison de la recherche en sciences humaines (MRSH) · Amphi\, Campus 1\, Maison de la recherche en sciences humaines (MRSH)\, 1 Esplanade de la Paix\, Caen\, 14000\, France
CATEGORIES:Séminaire
END:VEVENT
BEGIN:VEVENT
DTSTART;TZID=Europe/Paris:20241004T140000
DTEND;TZID=Europe/Paris:20241004T180000
DTSTAMP:20260422T010419
CREATED:20240909T135817Z
LAST-MODIFIED:20240909T135926Z
UID:48432-1728050400-1728064800@histeme.unicaen.fr
SUMMARY:Séminaire d'histoire antique
DESCRIPTION:Christel Freu (professeur d’histoire romaine à l’université d’Évry) : « Les finances impériales et les politiques monétaires des empereurs de 284 à 410 » \n\n\n\nDominic Moreau (maître de conférences en histoire romaine à l’université de Lille III) : « Les enjeux politiques et l’administration impériale en Europe du Sud-Est »
URL:https://histeme.unicaen.fr/evenement/seminaire-dhistoire-antique/
CATEGORIES:Séminaire
END:VEVENT
BEGIN:VEVENT
DTSTART;TZID=Europe/Paris:20241016T090000
DTEND;TZID=Europe/Paris:20241016T170000
DTSTAMP:20260422T010419
CREATED:20240909T142403Z
LAST-MODIFIED:20240909T142720Z
UID:48446-1729069200-1729098000@histeme.unicaen.fr
SUMMARY:Journée du "Dictionnaire des victimes du nazisme en Normandie"
DESCRIPTION:Matinée consacrée au projet du « Dictionnaire des victimes du nazisme en Normandie » – Plus d’informations \n\n\n\nAprès-midi dans le cadre du séminaire « Traces de guerre »: \n\n\n\n14h30-15h30 : « La répression allemande dans le Nord » par Laurent Thiery\, Historien\, chargé de recherches\, Fondation de la Résistance\, \n\n\n\n15h30-16h30 :  » Mémoire des massacres  » par François Rouquet\, Professeur\, Université de Caen Normandie \n\n\n\nProgramme complet
URL:https://histeme.unicaen.fr/evenement/journee-du-dictionnaire-des-victimes-du-nazisme-en-normandie/
LOCATION:Caen · Mémorial de Caen\, Mémorial de Caen\, Esplanade Général Eisenhower\, Caen\, 14000\, France
CATEGORIES:Séminaire
END:VEVENT
BEGIN:VEVENT
DTSTART;TZID=Europe/Paris:20241016T100000
DTEND;TZID=Europe/Paris:20241016T130000
DTSTAMP:20260422T010419
CREATED:20240925T082732Z
LAST-MODIFIED:20241010T140742Z
UID:48633-1729072800-1729083600@histeme.unicaen.fr
SUMMARY:Séminaire "La Fabrique du Politique"
DESCRIPTION:Actualité des recherches HisTeMé: \n\n\n\nAriane BOLTANSKI (Professeure d’histoire moderne\, HisTeMé\, Université de Caen Normandie) : « Entre reconnaissance et oppression : liberté de culte et liberté de conscience dans les affrontements confessionnels français des XVIe-XVIIe siècle ». \n\n\n\nSoizic CROGUENNEC (Maitresse de conférences en Histoire Moderne\, HisTeMé\, Université de Caen Normandie) : « La Louisiane oubliée puis revendiquée : la présence matérielle de l’Espagne dans les rues de la Nouvelle-Orléans ».
URL:https://histeme.unicaen.fr/evenement/seminaire-la-fabrique-du-politique-16/
LOCATION:Caen · Campus 1 · Bâtiment B · Salle B1-263c\, Bâtiment B\, Esplanade de la Paix\, Caen\, 14000\, France
CATEGORIES:Séminaire
END:VEVENT
BEGIN:VEVENT
DTSTART;TZID=Europe/Paris:20241017T110000
DTEND;TZID=Europe/Paris:20241017T190000
DTSTAMP:20260422T010419
CREATED:20240910T093303Z
LAST-MODIFIED:20240910T093437Z
UID:48484-1729162800-1729191600@histeme.unicaen.fr
SUMMARY:Jeunes Chercheurs-ses\, Nouvelles Recherches sur la Seconde Guerre mondiale
DESCRIPTION:Sous la direction de François Rouquet\, Gaël Eismann et Françoise Passera \n\n\n\nPlus d’informations et programme complet
URL:https://histeme.unicaen.fr/evenement/journee-jeunes-chercheurs-en-seconde-guerre-mondiale/
LOCATION:Caen · Mémorial de Caen\, Mémorial de Caen\, Esplanade Général Eisenhower\, Caen\, 14000\, France
CATEGORIES:Journée d'étude
END:VEVENT
BEGIN:VEVENT
DTSTART;TZID=Europe/Paris:20241018T140000
DTEND;TZID=Europe/Paris:20241018T180000
DTSTAMP:20260422T010419
CREATED:20240910T075935Z
LAST-MODIFIED:20240910T080059Z
UID:48464-1729260000-1729274400@histeme.unicaen.fr
SUMMARY:Séminaire d'histoire culturelle
DESCRIPTION:Séance sur « L’enfance en guerre »  \n\n\n\nManon Pignot (maîtresse de conférences HDR en histoire\, Université de Picardie Jules Verne) : Écrire l’histoire de la guerre à hauteur d’enfant : expériences enfantines de la Grande Guerre. \n\n\n\nCamille Mahé (maîtresse de conférences en histoire\, IEP de Strasbourg) : Les enfants dans la Seconde Guerre mondiale : sources\, approches\, historiographie. \n\n\n\nSéminaire suivi de la visite de l’exposition L’Encyclopédie des guerres  \n\n\n\nSous la direction d’Anna Trespeuch-Berthelot \n\n\n\nPlus d’informations
URL:https://histeme.unicaen.fr/evenement/seminaire-dhistoire-culturelle-8/
LOCATION:Saint-Germain-la-Blanche-Herbe · IMEC\, IMEC\, L'Abbaye D'Ardenne\, 3 Rue Youf du Marché\, Saint-Germain-la-Blanche-Herbe\, 14280\, France
CATEGORIES:Séminaire
END:VEVENT
BEGIN:VEVENT
DTSTART;TZID=Europe/Paris:20241018T143000
DTEND;TZID=Europe/Paris:20241018T173000
DTSTAMP:20260422T010419
CREATED:20240910T105402Z
LAST-MODIFIED:20240910T105403Z
UID:48519-1729261800-1729272600@histeme.unicaen.fr
SUMMARY:Séminaire « Le Temps de l’Empire ibérique (XVe-XVIIIe siècles) »
DESCRIPTION:Álvaro Bravo Bueno (Universidad Carlos III\, Madrid) : « Embajadores y redes clientelares en la corte de Felipe IV »Fabrice Micallef (Université de Nantes) : « Protection française\, protection espagnole : révoltes\, négociations extérieures et reconfigurations d’allégeances (XVIe-XVIIe siècles) » \n\n\n\nPlus d’informations
URL:https://histeme.unicaen.fr/evenement/seminaire-le-temps-de-lempire-iberique-xve-xviiie-siecles-10/
LOCATION:Caen · Campus 1 · Maison de la recherche en sciences humaines (MRSH) · Amphi\, Campus 1\, Maison de la recherche en sciences humaines (MRSH)\, 1 Esplanade de la Paix\, Caen\, 14000\, France
END:VEVENT
BEGIN:VEVENT
DTSTART;TZID=Europe/Paris:20241022T090000
DTEND;TZID=Europe/Paris:20241023T180000
DTSTAMP:20260422T010419
CREATED:20240910T092846Z
LAST-MODIFIED:20241004T143120Z
UID:48481-1729587600-1729706400@histeme.unicaen.fr
SUMMARY:Colloque Habiter les campagnes en France (1634-années 1970). Autour de deux nouvelles questions de l'agrégation d'histoire.
DESCRIPTION:Programme\n\n\n\nMardi 22 octobre \n\n\n\n9h-9h15 : Pot d’accueil\, mots de bienvenue \n\n\n\n9h15-10h : Jean-Marc Moriceau : Introduction \n\n\n\nSESSION 1 : SOCIÉTÉS RURALES\, IMPÔTS ET “POUVOIRS ENGLOBANTS” (XVII-XVIIIE S.) \n\n\n\n\n10h-10h30 : Antoine Follain\, L’impôt et les interactions entre les villages et l’État du XVIIe au XVIIIe siècle en régime de taille personnelle\n\n\n\n10h30-11h : Bruno Jaudon\, Pouvoir et village : la taille réelle en Languedoc aux XVIIe et XVIIIe siècles\n\n\n\n11h-11h30 : Sébastien Didier\, Subdélégations et sociétés rurales (France et Nouvelle-France\, XVIIIe siècle)\n\n\n\n11h30-12h15 : Questions et discussion collective\n\n\n\n12h15-14h : pause déjeuner\n\n\n\n\nSESSION 2 : HISTOIRE DES FEMMES\, POUVOIRS ET SOCIÉTÉS RURALES \n\n\n\n\n14h-14h30 : Scarlett Beauvalet\, Gérer ses terres : Marie-Anne de Maizières et sa fille Victoire de Clermont-Tonnerre à la tête du domaine de Brugny\, en Champagne (1780-1835)\n\n\n\n14h30-15h : Solenn Mabo\, Villageoises dans la Révolution française : loin du pouvoir\, loin des regards ?\n\n\n\n15h-15h45 : Questions et discussion collective\n\n\n\n15h45-16h : pause café\n\n\n\n\nSESSION 3 : VIE QUOTIDIENNE ET POUVOIRS DANS LES SOCIÉTÉS RURALES (XVIII-XIXE S.) \n\n\n\n\n16h-16h30 : Côme Simien\, S’affirmer au dedans\, s’affirmer au dehors : les enjeux collectifs de la présence d’un maître d’école au village (1750-1802)\n\n\n\n16h30-17h : Patrick Fournier\, Arroser\, irriguer dans les campagnes françaises des XVIIIe et XIXe siècles : maîtrise de l’eau et conflits sociaux\n\n\n\n17h00-17h45 : Questions et discussion collective\n\n\n\n\nMercredi 23 octobre \n\n\n\n9h-9h30 : Corinne Marache : Introduction \n\n\n\nSESSION 1 : VIVRE À LA CAMPAGNE EN FRANCE AU COURS D’UN LONG XIXE SIÈCLE \n\n\n\n\n9h30-10h : François Ploux\, Querelles de famille. Les disputes “factionnelles” dans les villages français (XIX-XXe siècle)\n\n\n\n10h-10h30 : Anthony Hamon\, Le paysan comme nouvel enjeu démocratique dans les campagnes de l’Ouest sous le Second Empire. L’exemple de “l’affaire Falloux” pendant l’enquête agricole de 1866\n\n\n\n10h30-11h : Gilles Della-Vedova\, Vivre la modernité touristique en montagne (fin XIXe-entre-deux-guerres)\n\n\n\n11h-11h45 : Questions et discussion collective\n\n\n\n11h45-13h15 : pause déjeuner\n\n\n\n\nSESSION 2 : HISTOIRES DES CAMPAGNES FRANÇAISES AU XXE SIÈCLE \n\n\n\n\n13h15-13h45 : Margot Lyautey\, Vivre à la campagne entre 1940 et 1944 : l’agriculture française sous l’occupation allemande\n\n\n\n13h45-14h15 : Edouard Lynch\, 1994-2023- Retour sur trente ans d’historiographie ruraliste contemporaine\n\n\n\n14h15-15h : Questions et discussion collective\n\n\n\n15h-15h15 : pause café\n\n\n\n15h15-17h : Présentation par Jean-Marc Moriceau de son nouveau livre Au cœur du XVIIe siècle. Nicolas Delacour ou le pouvoir au village suivie d’une table-ronde.\n\n\n\n\nComité d’organisation\n\n\n\nVincent Bollenot ; Brice Evain ; Anne de Mathan ; Jan Synowiecki ; Anna Trespeuch-Berthelot \n\n\n\n\nPour toute question : habiterlescampagnes@gmail.com \n\n\n\n\nAffiche du colloque Habiter les campagnes en France (png · 398 Ko)Télécharger (png · 398 Ko)\n\n\n\nProgramme-du-colloque (pdf · 2 Mo)Télécharger (pdf · 2 Mo)
URL:https://histeme.unicaen.fr/evenement/colloque-habiter-les-campagnes-en-france-1634-annees-1970-autour-de-deux-nouvelles-questions-de-lagregation-dhistoire/
LOCATION:Caen · Campus 1 · Maison de la recherche en sciences humaines (MRSH) · Salle des Actes (SH-027)\, Campus 1\, Maison de la recherche en sciences humaines (MRSH)\, 1 Esplanade de la Paix\, Caen\, 14000\, France
CATEGORIES:Congrès - Colloque
ATTACH;FMTTYPE=image/png:https://histeme.unicaen.fr/wp-content/uploads/sites/15/2024/09/ColloquePNG.png
END:VEVENT
BEGIN:VEVENT
DTSTART;TZID=Europe/Paris:20241024T100000
DTEND;TZID=Europe/Paris:20241024T130000
DTSTAMP:20260422T010419
CREATED:20240916T060738Z
LAST-MODIFIED:20250217T142606Z
UID:48541-1729764000-1729774800@histeme.unicaen.fr
SUMMARY:Séminaire "Penser le maritime"
DESCRIPTION:Séance : « La mer au musée«  \n\n\n\n« Collections maritimes et musées au Havre\, XIXe-XXe siècle »\, Emmanuelle Riand (directrice des musées d’Art et d’Histoire du Havre) \n\n\n\n« Repenser le musée national de la Marine : une rénovation pour les maritimités »\, Louise Constant (conservatrice au Musée national de la Marine\, Paris) \n\n\n\nPlus d’informations
URL:https://histeme.unicaen.fr/evenement/seminaire-penser-le-maritime-14/
LOCATION:Le Havre · Université Le Havre Normandie\, Université Le Havre Normandie\, 25 Rue Philippe Lebon\, Le Havre\, 76600\, France
CATEGORIES:Séminaire
END:VEVENT
END:VCALENDAR