BEGIN:VCALENDAR
VERSION:2.0
PRODID:-//Histemé - Histoire Territoires Mémoires - ECPv6.15.18//NONSGML v1.0//EN
CALSCALE:GREGORIAN
METHOD:PUBLISH
X-WR-CALNAME:Histemé - Histoire Territoires Mémoires
X-ORIGINAL-URL:https://histeme.unicaen.fr
X-WR-CALDESC:Évènements pour Histemé - Histoire Territoires Mémoires
REFRESH-INTERVAL;VALUE=DURATION:PT1H
X-Robots-Tag:noindex
X-PUBLISHED-TTL:PT1H
BEGIN:VTIMEZONE
TZID:Europe/Paris
BEGIN:DAYLIGHT
TZOFFSETFROM:+0100
TZOFFSETTO:+0200
TZNAME:CEST
DTSTART:20230326T010000
END:DAYLIGHT
BEGIN:STANDARD
TZOFFSETFROM:+0200
TZOFFSETTO:+0100
TZNAME:CET
DTSTART:20231029T010000
END:STANDARD
BEGIN:DAYLIGHT
TZOFFSETFROM:+0100
TZOFFSETTO:+0200
TZNAME:CEST
DTSTART:20240331T010000
END:DAYLIGHT
BEGIN:STANDARD
TZOFFSETFROM:+0200
TZOFFSETTO:+0100
TZNAME:CET
DTSTART:20241027T010000
END:STANDARD
BEGIN:DAYLIGHT
TZOFFSETFROM:+0100
TZOFFSETTO:+0200
TZNAME:CEST
DTSTART:20250330T010000
END:DAYLIGHT
BEGIN:STANDARD
TZOFFSETFROM:+0200
TZOFFSETTO:+0100
TZNAME:CET
DTSTART:20251026T010000
END:STANDARD
END:VTIMEZONE
BEGIN:VEVENT
DTSTART;TZID=Europe/Paris:20241105T140000
DTEND;TZID=Europe/Paris:20241105T180000
DTSTAMP:20260424T080810
CREATED:20240910T101507Z
LAST-MODIFIED:20250217T142515Z
UID:48499-1730815200-1730829600@histeme.unicaen.fr
SUMMARY:Séminaire "Société\, environnement et espaces ruraux"
DESCRIPTION:Cristiana OGHINA-PAVIE\, Maîtresse de conférences en histoire contemporaine\, UMR TEMOS\, Université d’Angers : « Nous avons brouillé la nature avec elle-même ». Une enquête interdisciplinaire sur les rosiers cultivés au XIXe siècle \n\n\n\nAdeline GRABY\, docteure en géographie\, UMR ESO\, Université de Caen Normandie : « Le maintien du commerce alimentaire dans les communes normandes de moins de 1 000 habitants » \n\n\n\n \n\n\n\nSous la direction de Philippe MADELINE\, Anna TRESPEUCH\, JAN SYNOWIECKI\, Elisabeth RIDEL-GRANGER \n\n\n\nPlus d’informations
URL:https://histeme.unicaen.fr/evenement/seminaire-du-pole-rural-societe-environnement-et-espaces-ruraux-2/
LOCATION:Caen · Campus 1 · Maison de la recherche en sciences humaines (MRSH) · Amphi\, Campus 1\, Maison de la recherche en sciences humaines (MRSH)\, 1 Esplanade de la Paix\, Caen\, 14000\, France
CATEGORIES:Séminaire
END:VEVENT
BEGIN:VEVENT
DTSTART;TZID=Europe/Paris:20241108T140000
DTEND;TZID=Europe/Paris:20241108T180000
DTSTAMP:20260424T080810
CREATED:20240910T080402Z
LAST-MODIFIED:20240910T080404Z
UID:48469-1731074400-1731088800@histeme.unicaen.fr
SUMMARY:Séminaire d'histoire culturelle
DESCRIPTION:Séance sur « Corps et régimes alimentaires : contribution à une histoire culturelle de l’alimentation » \n\n\n\nJean-Baptiste Bonnard (maître de conférences en histoire grecque\, Université de Caen-Normandie) : Corps et régimes alimentaires dans l’Antiquité grecque. \n\n\n\nSarah Bak-Geller (Universidad Nacional Autónoma de México\, professeure invitée à l’EHESS) : Régimes alimentaires\, modernité politique et construction des corps des citoyens au Mexique\, XVIIIe-XIXe siècles. \n\n\n\nSous la direction de Typhaine Haziza \n\n\n\nPlus d’informations
URL:https://histeme.unicaen.fr/evenement/seminaire-dhistoire-culturelle-9/
LOCATION:Saint-Germain-la-Blanche-Herbe · IMEC\, IMEC\, L'Abbaye D'Ardenne\, 3 Rue Youf du Marché\, Saint-Germain-la-Blanche-Herbe\, 14280\, France
CATEGORIES:Séminaire
END:VEVENT
BEGIN:VEVENT
DTSTART;TZID=Europe/Paris:20241113T100000
DTEND;TZID=Europe/Paris:20241113T130000
DTSTAMP:20260424T080810
CREATED:20240925T083246Z
LAST-MODIFIED:20241010T141253Z
UID:48637-1731492000-1731502800@histeme.unicaen.fr
SUMMARY:Séminaire "La Fabrique du Politique"
DESCRIPTION:CONCEPT\, NORMES ET DROITS FONDAMENTAUX:  \n\n\n\nÉléonora BOTTINI (Professeure de droit public\, ICREJ\, Université de Caen Normandie) :« Le droit constitutionnel de résistance à l’oppression à travers une perspective comparée ». \n\n\n\nFederico TARRAGONI (Professeur de sociologie\, CERREV\, Université de Caen Normandie) :« Le concept d’émancipation du droit romain aux mouvements sociaux du XIXe siècle ».
URL:https://histeme.unicaen.fr/evenement/seminaire-la-fabrique-du-politique-17/
LOCATION:Caen · Campus 1 · Bâtiment L · Amphi Jean Jacquet\, ESIX Normandie\, département agro-alimentaire\, Caen\, 14000\, France
CATEGORIES:Séminaire
END:VEVENT
BEGIN:VEVENT
DTSTART;TZID=Europe/Paris:20241115T140000
DTEND;TZID=Europe/Paris:20241115T180000
DTSTAMP:20260424T080810
CREATED:20240909T140052Z
LAST-MODIFIED:20240925T090359Z
UID:48437-1731679200-1731693600@histeme.unicaen.fr
SUMMARY:Séminaire d'histoire antique
DESCRIPTION:La religion romaine dans l’Orient grec [resp. S. Destephen]Gabrielle Frija (MCF HDR d’histoire romaine à l’université Gustave Eiffel) : « Les cultes impériaux dans les provinces hellénophones de l’Empire au IIIe siècle : continuité et recompositions »Nicole Belayche (directrice d’études émérite à l’EPHE\, titulaire de la chaire des religions de Rome et du monde romain) : « Les sacrifices au IVe siècle dans l’Empire romain »
URL:https://histeme.unicaen.fr/evenement/seminaire-dhistoire-antique-2/
CATEGORIES:Séminaire
END:VEVENT
BEGIN:VEVENT
DTSTART;TZID=Europe/Paris:20241115T143000
DTEND;TZID=Europe/Paris:20241115T173000
DTSTAMP:20260424T080810
CREATED:20240910T131448Z
LAST-MODIFIED:20240910T131450Z
UID:48522-1731681000-1731691800@histeme.unicaen.fr
SUMMARY:Séminaire « Le Temps de l’Empire ibérique (XVe-XVIIIe siècles) »
DESCRIPTION:Trilce Laske (EHESS) : « De Manille à Madrid : une République des lettres impériale (XVIIe siècle) » \n\n\n\nThomas Brignon (Université Clermont Auvergne) : « Ára poru aguyjeiháva (José Insaurralde SJ\, 1759-1760) : un traité sur le bon usage du temps à destination des Indiens guarani du Paraguay\,imprimé à Madrid au temps de Charles III ? » \n\n\n\nPlus d’informations
URL:https://histeme.unicaen.fr/evenement/seminaire-le-temps-de-lempire-iberique-xve-xviiie-siecles-11/
LOCATION:Caen · Campus 1 · Maison des langues et de l’international (MLI) · Salle Li-160\, Carré international - Maison des langues et de l'international\, Caen\, 14000\, France
CATEGORIES:Séminaire
END:VEVENT
BEGIN:VEVENT
DTSTART;TZID=Europe/Paris:20241119T140000
DTEND;TZID=Europe/Paris:20241119T180000
DTSTAMP:20260424T080810
CREATED:20241106T134941Z
LAST-MODIFIED:20241106T151918Z
UID:48743-1732024800-1732039200@histeme.unicaen.fr
SUMMARY:Soutenance d’HDR de Benoit Marpeau
DESCRIPTION:Invitation de monsieur Benoit MARPEAU: \n\n\n\nJ’ai le plaisir de vous annoncer ma soutenance d’HDR en histoire le mardi 19 novembre à 14 heures dans l’amphithéâtre de la MRSH de l’Université de Caen-Normandie. \n\n\n\nLe mémoire inédit est intitulé : « Inventer et vendre une nouvelle histoire ? Les historiens universitaires français et leurs éditeurs\, des années 1950 aux années 1990 ». \n\n\n\nLe jury est composé de : \n\n\n\n– Pascal ORY\, Professeur émérite d’histoire contemporaine\, Université de Paris-I\, président. \n\n\n\n– Chantal MEYER-PLANTUREUX\, Professeure émérite d’études théâtrales\, Université de Caen Normandie\, garante. \n\n\n\n– Christophe GAUTHIER\, Professeur d’histoire du livre et des médias contemporains\, Ecole Nationale des Chartes. \n\n\n\n– Anthony GLINOER\, Professeur d’histoire de l’édition et de sociologie du littéraire\, Université de Sherbrooke\, rapporteur. \n\n\n\n– Dzovinar KEVONIAN\, Professeure d’histoire contemporaine\, Université de Caen Normandie. \n\n\n\n– Hervé SERRY\, Directeur de recherches au CNRS\, Centre de Recherches Sociologiques et Politiques de Paris\, rapporteur. \n\n\n\n– Anne SIMONIN\, Directrice de recherches au CNRS\, Centre d’études sociologiques et politiques Raymond Aron-EHESS. \n\n\n\n– Patricia SOREL\, Professeure d’histoire contemporaine\, Université de Paris-X\, rapporteure.    \n\n\n\nBenoit Marpeau\, Université de Caen Normandie
URL:https://histeme.unicaen.fr/evenement/soutenance-dhdr-de-benoit-marpeau/
LOCATION:Caen · Campus 1 · Maison de la recherche en sciences humaines (MRSH) · Amphi\, Campus 1\, Maison de la recherche en sciences humaines (MRSH)\, 1 Esplanade de la Paix\, Caen\, 14000\, France
END:VEVENT
BEGIN:VEVENT
DTSTART;TZID=Europe/Paris:20241120T140000
DTEND;TZID=Europe/Paris:20241120T170000
DTSTAMP:20260424T080810
CREATED:20240910T073828Z
LAST-MODIFIED:20240910T074448Z
UID:48450-1732111200-1732122000@histeme.unicaen.fr
SUMMARY:Séminaire "Traces de guerre"
DESCRIPTION:Pollution des sols\, déchets de guerre : une histoire environnementale\, économique\, et anthropologique du désobusage\, 1914-2019 par Olivier Saint-Hilaire\, EHESS (Paris)-IRIS (Lille) \n\n\n\nSous la direction de Gaël Eismann et François Rouquet \n\n\n\nPlus d’informations
URL:https://histeme.unicaen.fr/evenement/seminaire-traces-de-guerre-12/
LOCATION:Caen · Campus 1 · Maison de la recherche en sciences humaines (MRSH) · Salle des Actes (SH-027)\, Campus 1\, Maison de la recherche en sciences humaines (MRSH)\, 1 Esplanade de la Paix\, Caen\, 14000\, France
CATEGORIES:Séminaire
END:VEVENT
BEGIN:VEVENT
DTSTART;TZID=Europe/Paris:20241120T140000
DTEND;TZID=Europe/Paris:20241120T160000
DTSTAMP:20260424T080810
CREATED:20241106T135117Z
LAST-MODIFIED:20241106T135119Z
UID:48745-1732111200-1732118400@histeme.unicaen.fr
SUMMARY:Conférence « Sport et élite dans l’Antiquité tardive : Pratiques et images »
DESCRIPTION:Conférence « Sport et élite dans l’Antiquité tardive : Pratiques et images » par Florie Debouchaud\, conférence organisée par la Commission recherche de STAPS et HisTeMé (Typhaine Haziza) – 14h00 – Amphi 500 (Campus 2)
URL:https://histeme.unicaen.fr/evenement/conference-sport-et-elite-dans-lantiquite-tardive-pratiques-et-images/
LOCATION:Caen · Campus 2 · Sciences 3 · Amphi 500\, Amphithéâtre 500\, 6 Boulevard du Maréchal Juin\, Caen\, 14000\, France
END:VEVENT
BEGIN:VEVENT
DTSTART;TZID=Europe/Paris:20241121T100000
DTEND;TZID=Europe/Paris:20241121T130000
DTSTAMP:20260424T080810
CREATED:20240916T062332Z
LAST-MODIFIED:20250217T142606Z
UID:48544-1732183200-1732194000@histeme.unicaen.fr
SUMMARY:Séminaire "Penser le maritime"
DESCRIPTION:Séance : « Guerres sur mer«  \n\n\n\n« Combattre en mer en Atlantique XVIe-XVIe siècle »\, Alexandre Jubelin (Sorbonne université\, FED 4124) \n\n\n\n« Écrire l’histoire des opérations extérieures de la Marine nationale »\, Jean de Préneuf (université de Lille\, UMR IRHiS\, Service historique de la Défense) \n\n\n\nPlus d’informations
URL:https://histeme.unicaen.fr/evenement/seminaire-penser-le-maritime-15/
LOCATION:Le Havre · Université Le Havre Normandie\, Université Le Havre Normandie\, 25 Rue Philippe Lebon\, Le Havre\, 76600\, France
CATEGORIES:Séminaire
END:VEVENT
BEGIN:VEVENT
DTSTART;TZID=Europe/Paris:20241126T140000
DTEND;TZID=Europe/Paris:20241126T180000
DTSTAMP:20260424T080810
CREATED:20241106T135239Z
LAST-MODIFIED:20241106T135241Z
UID:48749-1732629600-1732644000@histeme.unicaen.fr
SUMMARY:Soutenance de thèse de Félix Brêteau 
DESCRIPTION:Soutenance de thèse de Félix Brêteau : « Redoubler de zèle pour découvrir le crime. Les enquêtes de police à Caen pendant la Révolution française (1791-1799) »\, sous la direction d’Anne de Mathan et Thomas Hippler.
URL:https://histeme.unicaen.fr/evenement/soutenance-de-these-de-felix-breteau/
LOCATION:Caen · Campus 1 · Maison de la recherche en sciences humaines (MRSH) · Amphi\, Campus 1\, Maison de la recherche en sciences humaines (MRSH)\, 1 Esplanade de la Paix\, Caen\, 14000\, France
END:VEVENT
BEGIN:VEVENT
DTSTART;TZID=Europe/Paris:20241129T140000
DTEND;TZID=Europe/Paris:20241129T180000
DTSTAMP:20260424T080810
CREATED:20240910T080629Z
LAST-MODIFIED:20240910T080630Z
UID:48471-1732888800-1732903200@histeme.unicaen.fr
SUMMARY:Séminaire d'histoire culturelle
DESCRIPTION:Séance sur « Faire l’histoire de la danse. Pratiques anciennes et contemporaines «  \n\n\n\nPar Alessandro Arcangeli (professeur associé à l’Université de Vérone) et Jean-Marc Lemonnier (maître de conférences en STAPS à l’Université de Caen-Normandie) \n\n\n\nSous la direction de Florence Buttay \n\n\n\nPlus d’informations
URL:https://histeme.unicaen.fr/evenement/seminaire-dhistoire-culturelle-10/
LOCATION:Saint-Germain-la-Blanche-Herbe · IMEC\, IMEC\, L'Abbaye D'Ardenne\, 3 Rue Youf du Marché\, Saint-Germain-la-Blanche-Herbe\, 14280\, France
CATEGORIES:Séminaire
END:VEVENT
END:VCALENDAR