BEGIN:VCALENDAR
VERSION:2.0
PRODID:-//Histemé - Histoire Territoires Mémoires - ECPv6.15.18//NONSGML v1.0//EN
CALSCALE:GREGORIAN
METHOD:PUBLISH
X-WR-CALNAME:Histemé - Histoire Territoires Mémoires
X-ORIGINAL-URL:https://histeme.unicaen.fr
X-WR-CALDESC:Évènements pour Histemé - Histoire Territoires Mémoires
REFRESH-INTERVAL;VALUE=DURATION:PT1H
X-Robots-Tag:noindex
X-PUBLISHED-TTL:PT1H
BEGIN:VTIMEZONE
TZID:Europe/Paris
BEGIN:DAYLIGHT
TZOFFSETFROM:+0100
TZOFFSETTO:+0200
TZNAME:CEST
DTSTART:20240331T010000
END:DAYLIGHT
BEGIN:STANDARD
TZOFFSETFROM:+0200
TZOFFSETTO:+0100
TZNAME:CET
DTSTART:20241027T010000
END:STANDARD
BEGIN:DAYLIGHT
TZOFFSETFROM:+0100
TZOFFSETTO:+0200
TZNAME:CEST
DTSTART:20250330T010000
END:DAYLIGHT
BEGIN:STANDARD
TZOFFSETFROM:+0200
TZOFFSETTO:+0100
TZNAME:CET
DTSTART:20251026T010000
END:STANDARD
BEGIN:DAYLIGHT
TZOFFSETFROM:+0100
TZOFFSETTO:+0200
TZNAME:CEST
DTSTART:20260329T010000
END:DAYLIGHT
BEGIN:STANDARD
TZOFFSETFROM:+0200
TZOFFSETTO:+0100
TZNAME:CET
DTSTART:20261025T010000
END:STANDARD
END:VTIMEZONE
BEGIN:VEVENT
DTSTART;TZID=Europe/Paris:20250401T140000
DTEND;TZID=Europe/Paris:20250401T180000
DTSTAMP:20260419T234124
CREATED:20240910T102407Z
LAST-MODIFIED:20250217T142515Z
UID:48509-1743516000-1743530400@histeme.unicaen.fr
SUMMARY:Séminaire "Société\, environnement et espaces ruraux"
DESCRIPTION:Arnaud ORAIN\, directeur d’études à l’EHESS : « Les savoirs perdus de l’économie. Contribution à l’équilibre du vivant » \n\n\n\nJean-Michel CADOR\, Maître de conférences en géographie\, UMR IDEES\, Université de Caen Normandie : « Le grillage américain en Normandie :approche historique et géographique d’un marqueur paysager » \n\n\n\nSous la direction de Philippe MADELINE\, Anna TRESPEUCH\, JAN SYNOWIECKI\, Elisabeth RIDEL-GRANGER \n\n\n\nPlus d’informations
URL:https://histeme.unicaen.fr/evenement/seminaire-du-pole-rural-societe-environnement-et-espaces-ruraux-5/
LOCATION:Caen · Campus 1 · Maison de la recherche en sciences humaines (MRSH) · Amphi\, Campus 1\, Maison de la recherche en sciences humaines (MRSH)\, 1 Esplanade de la Paix\, Caen\, 14000\, France
CATEGORIES:Séminaire
END:VEVENT
BEGIN:VEVENT
DTSTART;TZID=Europe/Paris:20250403T100000
DTEND;TZID=Europe/Paris:20250403T130000
DTSTAMP:20260419T234124
CREATED:20240916T063922Z
LAST-MODIFIED:20250217T142607Z
UID:48555-1743674400-1743685200@histeme.unicaen.fr
SUMMARY:Séminaire "Penser le maritime"
DESCRIPTION:Séance : « Jeunes chercheuses et chercheurs en histoire maritime contemporaine«  \n\n\n\n« Être marin militaire en France\, 1850-1918. Étude d’une identité professionnelle »\, Baptistine Airiau (Sorbonne université\, UMR Sirice) \n\n\n\n« Les précurseurs de la construction navale au Havre : le cas des chantiers Augustin-Normand au XIXe siècle. Approches méthodologiques »\, Clément Recher (université Le Havre Normandie\, UMR IDEES) \n\n\n\nPlus d’informations
URL:https://histeme.unicaen.fr/evenement/seminaire-penser-le-maritime-20/
LOCATION:Le Havre · Université Le Havre Normandie\, Université Le Havre Normandie\, 25 Rue Philippe Lebon\, Le Havre\, 76600\, France
CATEGORIES:Séminaire
END:VEVENT
BEGIN:VEVENT
DTSTART;TZID=Europe/Paris:20250403T160000
DTEND;TZID=Europe/Paris:20250403T180000
DTSTAMP:20260419T234124
CREATED:20250127T103452Z
LAST-MODIFIED:20250203T081156Z
UID:48809-1743696000-1743703200@histeme.unicaen.fr
SUMMARY:Atelier jeunes recherches HisTeMé
DESCRIPTION:Les ateliers sont un espace d’échanges sur le recherche en sciences humaines et sociales \n\n\n\nSéance : « Migrations\, déplacements\, exils en Europe au premier XXe siècle » par Nicolas Morzelle (doctorant en 1e année) et Valentin Rhodius (doctorant en 2e année).  \n\n\n\nMRSH- Salle des thèses
URL:https://histeme.unicaen.fr/evenement/atelier-jeunes-recherches-histeme-12/
CATEGORIES:Séminaire des doctorants
END:VEVENT
BEGIN:VEVENT
DTSTART;TZID=Europe/Paris:20250409T100000
DTEND;TZID=Europe/Paris:20250409T130000
DTSTAMP:20260419T234124
CREATED:20240925T085117Z
LAST-MODIFIED:20241121T082815Z
UID:48654-1744192800-1744203600@histeme.unicaen.fr
SUMMARY:Séminaire "La Fabrique du Politique"
DESCRIPTION:DES MISES EN PRATIQUES DU DROIT DE RÉSISTANCE À L’OPPRESSION (XVIII-XXe SIÈCLES): \n\n\n\nAnne VERJUS (Directrice de recherche CNRSen Science Politique et directrice de Triangle\, Lyon) : « Dénoncer l’oppression des femmes en contexte familialiste : controverse\, évidences et résistances\, 1789-1825 ». \n\n\n\nChantal MEYER-PLANTUREUX (Professeure émérite d’Études théâtrales\, Université de Caen-Normandie\, HisTemé) : « Sacha Guitry sous l’Occupation : retrait face au pouvoir ou désobéissance ? » \n\n\n\n \n\n\n\nLe séminaire aura lieu dans la salle B1-157c
URL:https://histeme.unicaen.fr/evenement/seminaire-la-fabrique-du-politique-22/
CATEGORIES:Séminaire
END:VEVENT
BEGIN:VEVENT
DTSTART;TZID=Europe/Paris:20250409T150000
DTEND;TZID=Europe/Paris:20250409T173000
DTSTAMP:20260419T234124
CREATED:20240910T094340Z
LAST-MODIFIED:20250318T104154Z
UID:48491-1744210800-1744219800@histeme.unicaen.fr
SUMMARY:Inauguration du "Dictionnaire biographique numérique des victimes du nazisme en Normandie"
DESCRIPTION:Plus d’informations sur le projet \n\n\n\nLIEU : Amphithéâtre de la MRSH \n\n\n\nAccueil du publicPrésentation du site Internet« À la source »\, lecture de documents d’archives avec l’accompagnement de L’accord sensible \n\n\n\n \n\n\n\nAffiche dictionnaire déporation histeme VF (pdf · 3 Mo)Télécharger (pdf · 3 Mo)
URL:https://histeme.unicaen.fr/evenement/inauguration-du-site-internet-dictionnaire-des-victimes-du-nazisme-en-normandie/
END:VEVENT
BEGIN:VEVENT
DTSTART;TZID=Europe/Paris:20250410T090000
DTEND;TZID=Europe/Paris:20250410T173000
DTSTAMP:20260419T234124
CREATED:20250305T081621Z
LAST-MODIFIED:20250402T094452Z
UID:48993-1744275600-1744306200@histeme.unicaen.fr
SUMMARY:Journée d'étude "Nouveaux regards sur les déportations au départ de France (1940-1944). Bilan historiographique et perspectives de recherche"
DESCRIPTION:Programme de la Journée du 10 avril 2025  organisée dans le cadre de la commémoration du 80ème anniversaire de la Libération des camps avec le soutien financier de la Chaire Normandie pour la Paix et du laboratoire Histemé. \n\n\n\n \n\n\n\n9h : Accueil des participants \n\n\n\n9h15 : Ouverture : Armelle Gorand  (PU Unicaen-ICReJ) et Dzovinar Kevonian (PU Unicaen-HisTemé) dans le cadre du lancement de la Chaire d’excellence « mémoire et avenir de la paix ». \n\n\n\n9h20 : Introduction : Gaël Eismann (MCF HDR Unicaen)  \n\n\n\nMatin (9h30-12h30) \n\n\n\n9h30-11h15. Changements de paradigme \n\n\n\nPrésidence : Alain Alexandra (Chef de la Division des Archives des Victimes des Conflits Contemporains (Caen) au sein du Service historique de la Défense). \n\n\n\n– Arnaud Boulligny (Chercheur FMD\, chercheur associé Unicaen-HisTeMé): \n\n\n\n« Le rôle moteur du partenariat entre l’université de Caen\, la FMD et le SHD (DAVCC) dans le renouveau de la recherche sur les déportations non raciales. Genèse\, bilan et perspectives » \n\n\n\n– Thomas Fontaine (Docteur en histoire\, Directeur des projets du Réseau du Musée de la Résistance nationale et du Mémorial national des femmes) : \n\n\n\n«  Des déportés aux déportations de répression. Représentations\, mémoires\, définition et historiographie » \n\n\n\n– Pierre-Emmanuel Dufayel (professeur d’histoire\, doctorant Unicaen-HisTeMé) et Philippe Mezzasalma (docteur en histoire\, conservateur de bibliothèque\, chef du service presse de la BNF) : \n\n\n\n« L’irruption du genre : les apports d’une nouvelle approche sur les déportations de femmes de France » \n\n\n\n– Francis Eustache (Professeur des universités\, Unicaen-NIMH)et Peggy Quinette (Maîtresse de conférences\, Unicaen-NIMH) : \n\n\n\n« Mémoire et traumatisme : une lecture par les neurosciences » \n\n\n\nPause : 11h15-11h30 \n\n\n\n11h30-12h30. Des normes et des pratiques situées (1. Zone Nord). \n\n\n\nPrésidence : Jean Vigreux (Professeur des universités à l’université de Bourgogne Dijon) \n\n\n\n– Gaël Eismann (Maîtresse de conférences HDR\, Unicaen-HisTeMé) : \n\n\n\n« Le Militärbefehlshaber in Frankreich et la déportation. Genèse\, catégorisations et représentations (1941-1942) » \n\n\n\n– Françoise Passera (Ingénieure d’étude\, Unicaen-HisTeMé) : \n\n\n\n« Le Dictionnaire des victimes du Nazisme en Normandie. Un nouvel outil pour écrire l’histoire de la déportation en Normandie » \n\n\n\nAprès-midi (14h-17h30) \n\n\n\n14h-15h30. Des normes et des pratiques situées (2. Les autres zones) \n\n\n\nPrésidence :  Gaël Eismann (MCF HDR Unicaen-HisTeMé). \n\n\n\n– Laurent Thiery (Docteur en histoire\, chercheur Fondation de la Résistance\, chercheur associé HisTeMé): \n\n\n\n« 9 000 déportés de France à Mittelbau-Dora : cartographie d’un espace concentrationnaire » \n\n\n\n– Cédric Neveu (Responsable des recherches historiques au Centre européen du Résistant déporté/Mémorial du camp de concentration de Natzweiler) : \n\n\n\n« Le rôle du camp de Natzweiler dans la répression en zones annexées ». \n\n\n\n– Lise Briffaut-Bois (M2 en cours Unicaen) : \n\n\n\n« Les déportations de répression depuis la zone d’occupation italienne\, 1940-1943 » \n\n\n\nPause : 15h30-15h45 \n\n\n\n15h45-17h15 Des logiques allemandes de déportation à la catégorisation administrative des victimes du nazisme \n\n\n\nPrésidence : François Rouquet (PU Unicaen-HisTeMé) \n\n\n\n– François Rouquet (Professeur des universités Unicaen-HisTeMé) : retour sur la thèse de Lucie Hébert\, Les droits communs déportés par les Allemands depuis la France occupée : répressions\, représentations et exclusions (Unicaen-HisTeMé\, dir. F. Rouquet) \n\n\n\n– Nicolas Morzelle (professeur agrégé d’histoire\, doctorant Unicaen-HisTeMé) : \n\n\n\n« Les déportés juifs des premiers convois : un reflet des évolutions des politiques de persécution et de répression » \n\n\n\n– Julie Marchand (professeure agrégée d’histoire\, M2 Unicaen) : \n\n\n\n« Les raflés de Marseille de janvier 1943 internés au camp de Royallieu en vue de leur déportation : une opération mixte entre répression et persécution » \n\n\n\n– Sébastien Beuchet  (professeur agrégé d’histoire\, docteur Unicaen\, chercheur associé HisTeMé) : \n\n\n\n« De ”déporté du travail” à ”victime du travail forcé en Allemagne nazie” : histoire d’une controverse autour d’un titre au prisme de l’exemple normand ». \n\n\n\n17h15 Conclusions : Denis Peschanski (Directeur de recherche CNRS émérite\, Président du conseil scientifique et d’orientation de la Mission du 80ème anniversaire des débarquements\, de la Libération de la France et de la Victoire) \n\n\n\nOrganisation : \n\n\n\nGaël Eismann et François Rouquet \n\n\n\nHisTeMé-ER 7455 – Unicaen – Axe « Paix et Conflits » \n\n\n\nPour assister à la journée d’étude en visioconférence\, contactez delphine.leneveu@unicaen.fr \n\n\n\n \n\n\n\nProgramme  dictionnaire déportation histeme VF (pdf · 3 Mo)Télécharger (pdf · 3 Mo)
URL:https://histeme.unicaen.fr/evenement/journee-detude-nouveaux-regards-sur-les-deportations-au-depart-de-france-1940-1944-bilan-historiographique-et-perspectives-de-recherche/
LOCATION:Caen · Campus 1 · Maison de la recherche en sciences humaines (MRSH) · Amphi\, Campus 1\, Maison de la recherche en sciences humaines (MRSH)\, 1 Esplanade de la Paix\, Caen\, 14000\, France
CATEGORIES:Journée d'étude
END:VEVENT
BEGIN:VEVENT
DTSTART;TZID=Europe/Paris:20250414T100000
DTEND;TZID=Europe/Paris:20250416T180000
DTSTAMP:20260419T234124
CREATED:20240923T103227Z
LAST-MODIFIED:20250407T123035Z
UID:48616-1744624800-1744826400@histeme.unicaen.fr
SUMMARY:Colloque "Abandon de poste. Processus\, usages et représentations de l'abandon du patrimoine bâti militaire de l'Antiquité à nos jours"
DESCRIPTION:Colloque international organisé par Camille Cilona\, Doctorante allocataire du ministère des Armées en histoire médiévale\, GRHis (Groupe de Recherche d’Histoire) – UR 3831\,Université de Rouen et Guillaume Yverneau\, HisTeMé\, Université de Caen Normandie. \n\n\n\nSalle de Virieu\, pavillon du roi\, Château de Vincennes\, Avenue de Paris\, 94306\, VINCENNES. \n\n\n\nL’inscription se fait à la journée au lien suivant : https://www.eventbrite.fr/e/colloque-abandon-de-poste-vincennes-14-au-16-avril-2025-tickets-1301081011329?aff=oddtdtcreator \n\n\n\nPour assister au colloque en visioconférence : https://syvik-fr.zoom.us/j/92511940579 \n\n\n\nPour toute information:  colloque.abandondeposte@unicaen.fr \n\n\n\nProgramme colloque A2P-2 (pdf · 7 Mo)Télécharger (pdf · 7 Mo)
URL:https://histeme.unicaen.fr/evenement/colloque-abandon-de-poste-processus-usages-et-representations-de-labandon-du-patrimoine-bati-militaire-de-lantiquite-a-nos-jours/
LOCATION:Vincennes · Château de Vincennes\, Château de Vincennes\, Avenue de Paris\, Vincennes\, 94300\, France
CATEGORIES:Congrès - Colloque
END:VEVENT
BEGIN:VEVENT
DTSTART;TZID=Europe/Paris:20250422T090000
DTEND;TZID=Europe/Paris:20250422T170000
DTSTAMP:20260419T234124
CREATED:20250214T085029Z
LAST-MODIFIED:20250214T085031Z
UID:48855-1745312400-1745341200@histeme.unicaen.fr
SUMMARY:Séminaire Villes et sciences sociales
DESCRIPTION:Table-ronde Villes et santé \n\n\n\nAlice Rouyer (MCF Géographie\, UFR SEGGAT) et les étudiants du Master MADURA \n\n\n\nAmphi de la MRSH
URL:https://histeme.unicaen.fr/evenement/seminaire-villes-et-sciences-sociales-16/
END:VEVENT
BEGIN:VEVENT
DTSTART;TZID=Europe/Paris:20250425T143000
DTEND;TZID=Europe/Paris:20250425T173000
DTSTAMP:20260419T234124
CREATED:20240910T132517Z
LAST-MODIFIED:20240910T132518Z
UID:48537-1745591400-1745602200@histeme.unicaen.fr
SUMMARY:Séminaire « Le Temps de l’Empire ibérique (XVe-XVIIIe siècles) »
DESCRIPTION:Natalia Muchnik (EHESS-Paris) : « Minorités religieuses et espaces de l’enfermement dans l’Espagne moderne » \n\n\n\nTeresa Peláez (Universidad de Valencia) : «  Gobernar el trabajo forzado: esclavos y condenados al remo de las Galeras de España en el siglo XVI » \n\n\n\nPlus d’informations
URL:https://histeme.unicaen.fr/evenement/seminaire-le-temps-de-lempire-iberique-xve-xviiie-siecles-16/
LOCATION:Caen · Campus 1 · Maison de la recherche en sciences humaines (MRSH) · Salle des Actes (SH-027)\, Campus 1\, Maison de la recherche en sciences humaines (MRSH)\, 1 Esplanade de la Paix\, Caen\, 14000\, France
CATEGORIES:Séminaire
END:VEVENT
BEGIN:VEVENT
DTSTART;TZID=Europe/Paris:20250428T100000
DTEND;TZID=Europe/Paris:20250428T180000
DTSTAMP:20260419T234124
CREATED:20241001T102004Z
LAST-MODIFIED:20250203T122255Z
UID:48677-1745834400-1745863200@histeme.unicaen.fr
SUMMARY:Journée "Antiquité en Normandie"
DESCRIPTION:Responsable : Typhaine Haziza
URL:https://histeme.unicaen.fr/evenement/journee-antiquite-en-normandie/
LOCATION:Rouen · Université de Rouen Normandie\, Université de Mont Saint Aignan\, 2 Rue du Tronquet\, Mont-Saint-Aignan\, 76821\, France
CATEGORIES:Journée d'étude
END:VEVENT
END:VCALENDAR