BEGIN:VCALENDAR
VERSION:2.0
PRODID:-//Histemé - Histoire Territoires Mémoires - ECPv6.15.18//NONSGML v1.0//EN
CALSCALE:GREGORIAN
METHOD:PUBLISH
X-ORIGINAL-URL:https://histeme.unicaen.fr
X-WR-CALDESC:Évènements pour Histemé - Histoire Territoires Mémoires
REFRESH-INTERVAL;VALUE=DURATION:PT1H
X-Robots-Tag:noindex
X-PUBLISHED-TTL:PT1H
BEGIN:VTIMEZONE
TZID:Europe/Paris
BEGIN:DAYLIGHT
TZOFFSETFROM:+0100
TZOFFSETTO:+0200
TZNAME:CEST
DTSTART:20240331T010000
END:DAYLIGHT
BEGIN:STANDARD
TZOFFSETFROM:+0200
TZOFFSETTO:+0100
TZNAME:CET
DTSTART:20241027T010000
END:STANDARD
BEGIN:DAYLIGHT
TZOFFSETFROM:+0100
TZOFFSETTO:+0200
TZNAME:CEST
DTSTART:20250330T010000
END:DAYLIGHT
BEGIN:STANDARD
TZOFFSETFROM:+0200
TZOFFSETTO:+0100
TZNAME:CET
DTSTART:20251026T010000
END:STANDARD
BEGIN:DAYLIGHT
TZOFFSETFROM:+0100
TZOFFSETTO:+0200
TZNAME:CEST
DTSTART:20260329T010000
END:DAYLIGHT
BEGIN:STANDARD
TZOFFSETFROM:+0200
TZOFFSETTO:+0100
TZNAME:CET
DTSTART:20261025T010000
END:STANDARD
END:VTIMEZONE
BEGIN:VEVENT
DTSTART;TZID=Europe/Paris:20251107T140000
DTEND;TZID=Europe/Paris:20251107T180000
DTSTAMP:20260425T201348
CREATED:20250915T072746Z
LAST-MODIFIED:20250915T072859Z
UID:89065-1762524000-1762538400@histeme.unicaen.fr
SUMMARY:Séminaire d’Histoire Antique
DESCRIPTION:Séance organisée par Typhaine Haziza et Jean-Baptiste Bonnard \n\n\n\nSéance sur : « La Grande Grèce antique » \n\n\n\n– Airton Pollini (Pr. d’Histoire grecque à l’Université de Tours) : « Organisation régulière des espaces ruraux\, limites d’occupation des terres et paysans à Métaponte et à Poseidonia\, de l’archaïsme à la conquête romaine » \n\n\n\n– Ségolène Maudet (MCF en histoire et archéologie grecques à l’Université du Mans) : « Travailler dans les campagnes grecques d’Occident aux époques archaïque et classique\, entre histoire rurale et politique »
URL:https://histeme.unicaen.fr/evenement/seminaire-dhistoire-antique-5/
LOCATION:Caen · Campus 1 · Bâtiment N · Amphi Guillaume-François Rouelle\, Esplanade de la Paix\, Caen\, 14000\, France
CATEGORIES:Séminaire
END:VEVENT
BEGIN:VEVENT
DTSTART;TZID=Europe/Paris:20251112T100000
DTEND;TZID=Europe/Paris:20251112T130000
DTSTAMP:20260425T201348
CREATED:20250916T133752Z
LAST-MODIFIED:20250930T082046Z
UID:89091-1762941600-1762952400@histeme.unicaen.fr
SUMMARY:Séminaire La Fabrique du politique
DESCRIPTION:Séance consacrée à « Engagement\, amour\, emprise : intime et politique autour du “moment 68” » avec \n\n\n\nBoris Gobille (ENS de Lyon\, Triangle) : « Enquêter sur les racines intimes de Mai-juin 68 : matériaux\, approches\, enjeux » \n\n\n\nJulie Pagis (CNRS\, IRIS) : « De la domination charismatique dans les “années 68” : retour sur une enquête au sein d’un groupe maoïste » \n\n\n\nLa séance est organisée par Vincent Bollenot. 
URL:https://histeme.unicaen.fr/evenement/seminaire-la-fabrique-du-politique-26/
LOCATION:Caen · Campus 1 · Maison de la recherche en sciences humaines (MRSH) · Salle des Actes (SH-027)\, Campus 1\, Maison de la recherche en sciences humaines (MRSH)\, 1 Esplanade de la Paix\, Caen\, 14000\, France
CATEGORIES:Séminaire
END:VEVENT
BEGIN:VEVENT
DTSTART;TZID=Europe/Paris:20251114T143000
DTEND;TZID=Europe/Paris:20251114T173000
DTSTAMP:20260425T201348
CREATED:20250911T131356Z
LAST-MODIFIED:20250912T070744Z
UID:89030-1763130600-1763141400@histeme.unicaen.fr
SUMMARY:Séminaire d’histoire culturelle
DESCRIPTION:  Séance sur « Histoire des sensibilités : la conjugalité » avec \n\n\n\nClémentine Vidal-Naquet (Université de Rouen) « Histoire sensible des lendemains de guerre : un voyage de noces en 1919 » \n\n\n\nLucie Jardot (Paris 1) « Conjugalité et pouvoir au Moyen Âge (duchés de Bourbon et de Bourgogne\, XIVe-XVIe siècles) » \n\n\n\nPlus d’informations
URL:https://histeme.unicaen.fr/evenement/seminaire-dhistoire-culturelle-16/
LOCATION:Saint-Germain-la-Blanche-Herbe · IMEC\, IMEC\, L'Abbaye D'Ardenne\, 3 Rue Youf du Marché\, Saint-Germain-la-Blanche-Herbe\, 14280\, France
END:VEVENT
BEGIN:VEVENT
DTSTART;TZID=Europe/Paris:20251128T140000
DTEND;TZID=Europe/Paris:20251128T180000
DTSTAMP:20260425T201348
CREATED:20250915T073213Z
LAST-MODIFIED:20250915T073215Z
UID:89069-1764338400-1764352800@histeme.unicaen.fr
SUMMARY:Séminaire d’Histoire Antique
DESCRIPTION:28 novembre 2025 \n\n\n\nSéance organisée par Gilles Gorre  \n\n\n\nSéance sur : « Travailler en Grèce ancienne aux époques archaïque et classique (VIIIe-IVe siècles av. n.è.) » \n\n\n\n– Arianna Esposito (MCF d’archéologie classique à l’Université de Bourgogne)\, : « L’atelier du potier : un prisme d’observation du travail dans le monde grec archaïque et classique ? » \n\n\n\n– Ariane Guieu-Coppolani (MCF en histoire ancienne à l’Université de Paris-Sorbonne) : « Travailler chez Homère et Hésiode » \n\n\n\nCette séance est ouverte et largement recommandée aux Agrégatifs
URL:https://histeme.unicaen.fr/evenement/seminaire-dhistoire-antique-6/
LOCATION:Caen · Campus 1 · Bâtiment N · Amphi Guillaume-François Rouelle\, Esplanade de la Paix\, Caen\, 14000\, France
CATEGORIES:Séminaire
END:VEVENT
END:VCALENDAR